Workbook

Sheet Introduction
B2: Detention Storage Cost Estimate
B3: Version 1.0
B4: This Detention Storage Cost Estimate tool has been developed for the City of Calgary to support discussions around incentives or fees related to installation of stormwater retention systems in new developments. This tool will provide general costs for a variety of localized suppliers and types of storages, but does not give site specific information. Costs may vary widely depending on development requirements. This tool was created to assist the city with general information about potential costs but does not replace a professional stamp or represent final project costs.
D10: Indicates boxes that require user input.
C12: Spreadsheet Description
C13: Tab Title | D13: Descpription | G13: Reference Manual Chapter
C14: Cost Estimate | D14: Users may input a value for stormwater storage volume required. Users are given the choice to select storage type and flow control infrastructure.

Sheet User Input
B2: User Input Version 1.0 - September 2, 2026
B6: The intention of the Detention Storage Scalable Cost Estimate is used to generate a general cost estimate for the user based on required storage volume, storage type, and flow control infrastructure when in the planning stage of stormwater management planning. The tool uses several assumptions and general cost estimates in order to return information about the developments. The Detention Storage Tool can be used to estimate storage volumes to be inputted into this tool. PLEASE NOTE: This tool is meant to be used as a guideline and is only an estimate of cost to be used in screening-level or planning exercises and is not a tender-ready or construction cost. Actual costs are heavily dependant on various factors such as but not limited to site conditions, groundwater, market pricing, and access constraints. Costs are highly variable and final costs must be quoted directly from suppliers and contractors. The outputs of this tool are only meant to be utilized for a planning level estimate. The optional cost escalation factor is a multiplier for the automated costs and can be inputted by the user if there is a known rate of change or inflation from the pricing represented. A value of 1 is required for the cost escalation factor for regular estimated costing. The optional additional cover is a user inputted value to be used if an additional excavation cost is required due to the system being deeper than the minimum required cover. Shoring is included as temporary structures used to support walls during excavation. Cost estimates have been anonymized but are based on products available for detention storage in the Calgary region.
B11: NOTE: Catchbasins and pipes are not included in the cost estimate as site designs vary widely. Optional Inclusions are excluded for Traplow and Roof Storage as they are not applicable.
B13: How To Use: Input the total storage volume that the site will have installed. Select Storage Type and Flow Control Types. Change the cost escallation factor from 1 if it is known or required. Change additional cover to be added to overtop the storage if known or required. Change the Engineering Contingency if known or not required. Select optional inclusions based on site requirements. For utility conflicts and relocations, secelct how many conflicts there will be. Input the number of flow control devices on site.
B15: Input
C17: Total Storage Volume: | E17: 0 | H17: m3 | J17: Optional Inclusions:
J18: Shoring | K18: FALSE | L18: =IFERROR(IF(K18=TRUE, IF(AVERAGE('Cost Breakdown'!$K$5:$K$17)>2.4,Constants!$C$17,Constants!$B$17), 0)*AVERAGE('Cost Breakdown'!L5:$L$17), 0) -> 0
C19: Storage Type: | E19: Concrete | J19: Close Proximity to Buildings | K19: FALSE | L19: =IF(OR(E19="Roof", E19="Traplow"), 0, IF(K19=TRUE,Constants!B19,0)) -> 0
J20: Utility Conflicts and Relocations | K20: 0 | L20: =IF(OR(E19="Roof", E19="Traplow"), 0, K20*Constants!$B$19) -> 0
C21: Flow Control Type: | E21: Orifice | J21: Mobilization/General Conditions | K21: FALSE | L21: =IF(OR(E19="Roof", E19="Traplow"), 0, IF(K21=TRUE,SUM(E31:E32)*0.1,0)) -> 0
J22: Non-Permeable Liner | K22: FALSE | L22: =IFERROR(IF(OR(K22=TRUE, E19="Arched", E19="Modular"),Constants!B22*AVERAGE('Cost Breakdown'!J5:J17),0), "Not Applicable for Roof and Traplow") -> 0
C23: (Optional) Cost Escalation Factor: | E23: 1 | J23: Total Optional Cost: | K23: =SUM(L18:L22) -> 0
C25: (Optional) Additional Cover (m): | E25: 0 | J25: Cost Basis Date: | K25: =IF(MAX('Cost Breakdown'!S5:S17)=0, "N.A.", MAX('Cost Breakdown'!S5:S17)) -> 45852
C27: (Optional) Engineering Contingency: | E27: 0.15
B29: Total Cost
C31: Storage Cost: | E31: =IF(E19="Traplow", "Additional site grading and storm system costs required.", IF(E19="Roof", "Assume additional 10-15% of building and engineering cost.",'Cost Breakdown'!R18)) -> 2200
C32: Flow Control Cost: | E32: =IFERROR(IF(AND(E21= "Roof Weir", E19<>"Roof"), "Roof Weir only compatible with Roof Storage.", IF(AND(E19="Roof", OR(E21="Vortex", E21="Pump")), "Vortex and Pump Control not Functional with Roof Storage. ", 'Cost Breakdown'!I28*M32)),"") -> 450 | F32: =IF(E19="Roof", "", IF(E21="Pump", "Obtain cost and specifications from Supplier.", "")) | K32: Number of Flow Control Devices: | M32: 1
C33: Total Estimated Cost (with optional costs) | E33: =IFERROR(SUM(E31:E32,K23)*E23*(1+E27), "") -> 3047.5

Sheet Cost Breakdown
H2: Detention Storage
H3: Product Requirement Information | N3: Detention Storage Cost Estimation | S3: Cost Basis Date
B4: User Inputs | F4: Brand | G4: Product Description | H4: Product Index | I4: Number of Modules | J4: Required Footprint (m2) | K4: Required Depth (m) | L4: Estimated Perimeter (m) | M4: Excavation Required (m3) | N4: Module Cost | O4: Excavation Cost | P4: Transportation Cost | Q4: Labour Cost | R4: Total Cost
B5: Storage Volume | C5: ='User Input'!E17 -> 0 | E5: {=_xlfn._xlws.FILTER('Storages Background Info'!A3:C29,'Storages Background Info'!A3:A29=C6,"")} -> Concrete | F5: Storm Capture | G5: 7x15x2 (ft) | H5: =IFERROR(VLOOKUP(G5, 'Storages Background Info'!$C$3:$W$29,21,FALSE), "") -> 1 | I5: =IFERROR(ROUNDUP($C$5/VLOOKUP(G5,'Storages Background Info'!$C$2:$K$29,9,FALSE),0),"") -> 0 | J5: =IFERROR(ROUNDUP(I5*VLOOKUP(G5,'Storages Background Info'!$C$3:$N$29,12,FALSE),2), "") -> 0 | K5: =IFERROR(ROUNDUP(VLOOKUP(G5,'Storages Background Info'!$C$3:$U$29,13,FALSE)+VLOOKUP(G5,'Storages Background Info'!$C$3:$U$29,15,FALSE)+'User Input'!$E$25, 2), "") -> 1.21 | L5: =IFERROR(ROUNDUP(VLOOKUP(G5,'Storages Background Info'!$C$3:$U$29,14,FALSE), 2), "") -> 13.75 | M5: =IFERROR(((VLOOKUP(G5,'Storages Background Info'!$C$2:$R$29,13,FALSE)+VLOOKUP(G5,'Storages Background Info'!$C$2:$R$29,14,FALSE)+'User Input'!$E$25)*VLOOKUP(G5,'Storages Background Info'!$C$2:$R$29,12,FALSE))*I5, "") -> 0 | N5: =IFERROR(VLOOKUP(G5,'Storages Background Info'!$C$2:$T$30,18, FALSE)*$C$5,"") -> 0 | O5: =IFERROR(M5*Constants!$B$3, "") -> 0 | P5: =IFERROR(VLOOKUP(G5,'Storages Background Info'!$C$2:$R$30,16,FALSE)*Constants!$C$3,"") -> 1000 | Q5: =IFERROR(VLOOKUP(G5,'Storages Background Info'!$C$2:$S$30,17,FALSE)*Constants!$E$3, "") -> 1200 | R5: =IF(SUM(N5:Q5)=0,"",SUM(N5:Q5)) -> 2200 | S5: =IFERROR(VLOOKUP(G5, 'Storages Background Info'!$C$3:$U$29,19,FALSE), "") -> 45852
B6: Storage Type | C6: ='User Input'!E19 -> Concrete | E6: Concrete | F6: Storm Capture | G6: 7x15x4 (ft) | H6: =IFERROR(VLOOKUP(G6, 'Storages Background Info'!$C$3:$W$29,21,FALSE), "") -> 2 | I6: =IFERROR(ROUNDUP($C$5/VLOOKUP(G6,'Storages Background Info'!$C$2:$K$29,9,FALSE),0),"") -> 0 | J6: =IFERROR(ROUNDUP(I6*VLOOKUP(G6,'Storages Background Info'!$C$3:$N$29,12,FALSE),2), "") -> 0 | K6: =IFERROR(ROUNDUP(VLOOKUP(G6,'Storages Background Info'!$C$3:$U$29,13,FALSE)+VLOOKUP(G6,'Storages Background Info'!$C$3:$U$29,15,FALSE)+'User Input'!$E$25, 2), "") -> 1.82 | L6: =IFERROR(ROUNDUP(VLOOKUP(G6,'Storages Background Info'!$C$3:$U$29,14,FALSE), 2), "") -> 13.75 | M6: =IFERROR(((VLOOKUP(G6,'Storages Background Info'!$C$2:$R$29,13,FALSE)+VLOOKUP(G6,'Storages Background Info'!$C$2:$R$29,14,FALSE)+'User Input'!$E$25)*VLOOKUP(G6,'Storages Background Info'!$C$2:$R$29,12,FALSE))*I6, "") -> 0 | N6: =IFERROR(VLOOKUP(G6,'Storages Background Info'!$C$2:$T$30,18, FALSE)*$C$5,"") -> 0 | O6: =IFERROR(M6*Constants!$B$3, "") -> 0 | P6: =IFERROR(VLOOKUP(G6,'Storages Background Info'!$C$2:$R$30,16,FALSE)*Constants!$C$3,"") -> 1000 | Q6: =IFERROR(VLOOKUP(G6,'Storages Background Info'!$C$2:$S$30,17,FALSE)*Constants!$E$3, "") -> 1200 | R6: =IF(SUM(N6:Q6)=0,"",SUM(N6:Q6)) -> 2200 | S6: =IFERROR(VLOOKUP(G6, 'Storages Background Info'!$C$3:$U$29,19,FALSE), "") -> 45852
B7: Flow Control | C7: ='User Input'!E21 -> Orifice | E7: Concrete | F7: Storm Capture | G7: 7x15x6 (ft) | H7: =IFERROR(VLOOKUP(G7, 'Storages Background Info'!$C$3:$W$29,21,FALSE), "") -> 3 | I7: =IFERROR(ROUNDUP($C$5/VLOOKUP(G7,'Storages Background Info'!$C$2:$K$29,9,FALSE),0),"") -> 0 | J7: =IFERROR(ROUNDUP(I7*VLOOKUP(G7,'Storages Background Info'!$C$3:$N$29,12,FALSE),2), "") -> 0 | K7: =IFERROR(ROUNDUP(VLOOKUP(G7,'Storages Background Info'!$C$3:$U$29,13,FALSE)+VLOOKUP(G7,'Storages Background Info'!$C$3:$U$29,15,FALSE)+'User Input'!$E$25, 2), "") -> 2.43 | L7: =IFERROR(ROUNDUP(VLOOKUP(G7,'Storages Background Info'!$C$3:$U$29,14,FALSE), 2), "") -> 13.75 | M7: =IFERROR(((VLOOKUP(G7,'Storages Background Info'!$C$2:$R$29,13,FALSE)+VLOOKUP(G7,'Storages Background Info'!$C$2:$R$29,14,FALSE)+'User Input'!$E$25)*VLOOKUP(G7,'Storages Background Info'!$C$2:$R$29,12,FALSE))*I7, "") -> 0 | N7: =IFERROR(VLOOKUP(G7,'Storages Background Info'!$C$2:$T$30,18, FALSE)*$C$5,"") -> 0 | O7: =IFERROR(M7*Constants!$B$3, "") -> 0 | P7: =IFERROR(VLOOKUP(G7,'Storages Background Info'!$C$2:$R$30,16,FALSE)*Constants!$C$3,"") -> 1000 | Q7: =IFERROR(VLOOKUP(G7,'Storages Background Info'!$C$2:$S$30,17,FALSE)*Constants!$E$3, "") -> 1200 | R7: =IF(SUM(N7:Q7)=0,"",SUM(N7:Q7)) -> 2200 | S7: =IFERROR(VLOOKUP(G7, 'Storages Background Info'!$C$3:$U$29,19,FALSE), "") -> 45852
E8: Concrete | F8: Storm Capture | G8: 7x15x8 (ft) | H8: =IFERROR(VLOOKUP(G8, 'Storages Background Info'!$C$3:$W$29,21,FALSE), "") -> 4 | I8: =IFERROR(ROUNDUP($C$5/VLOOKUP(G8,'Storages Background Info'!$C$2:$K$29,9,FALSE),0),"") -> 0 | J8: =IFERROR(ROUNDUP(I8*VLOOKUP(G8,'Storages Background Info'!$C$3:$N$29,12,FALSE),2), "") -> 0 | K8: =IFERROR(ROUNDUP(VLOOKUP(G8,'Storages Background Info'!$C$3:$U$29,13,FALSE)+VLOOKUP(G8,'Storages Background Info'!$C$3:$U$29,15,FALSE)+'User Input'!$E$25, 2), "") -> 3.04 | L8: =IFERROR(ROUNDUP(VLOOKUP(G8,'Storages Background Info'!$C$3:$U$29,14,FALSE), 2), "") -> 13.75 | M8: =IFERROR(((VLOOKUP(G8,'Storages Background Info'!$C$2:$R$29,13,FALSE)+VLOOKUP(G8,'Storages Background Info'!$C$2:$R$29,14,FALSE)+'User Input'!$E$25)*VLOOKUP(G8,'Storages Background Info'!$C$2:$R$29,12,FALSE))*I8, "") -> 0 | N8: =IFERROR(VLOOKUP(G8,'Storages Background Info'!$C$2:$T$30,18, FALSE)*$C$5,"") -> 0 | O8: =IFERROR(M8*Constants!$B$3, "") -> 0 | P8: =IFERROR(VLOOKUP(G8,'Storages Background Info'!$C$2:$R$30,16,FALSE)*Constants!$C$3,"") -> 1000 | Q8: =IFERROR(VLOOKUP(G8,'Storages Background Info'!$C$2:$S$30,17,FALSE)*Constants!$E$3, "") -> 1200 | R8: =IF(SUM(N8:Q8)=0,"",SUM(N8:Q8)) -> 2200 | S8: =IFERROR(VLOOKUP(G8, 'Storages Background Info'!$C$3:$U$29,19,FALSE), "") -> 45852
E9: Concrete | F9: Storm Trap | G9: 1200x900 (mm) | H9: =IFERROR(VLOOKUP(G9, 'Storages Background Info'!$C$3:$W$29,21,FALSE), "") -> 5 | I9: =IFERROR(ROUNDUP($C$5/VLOOKUP(G9,'Storages Background Info'!$C$2:$K$29,9,FALSE),0),"") -> 0 | J9: =IFERROR(ROUNDUP(I9*VLOOKUP(G9,'Storages Background Info'!$C$3:$N$29,12,FALSE),2), "") -> 0 | K9: =IFERROR(ROUNDUP(VLOOKUP(G9,'Storages Background Info'!$C$3:$U$29,13,FALSE)+VLOOKUP(G9,'Storages Background Info'!$C$3:$U$29,15,FALSE)+'User Input'!$E$25, 2), "") -> 3 | L9: =IFERROR(ROUNDUP(VLOOKUP(G9,'Storages Background Info'!$C$3:$U$29,14,FALSE), 2), "") -> 4.2 | M9: =IFERROR(((VLOOKUP(G9,'Storages Background Info'!$C$2:$R$29,13,FALSE)+VLOOKUP(G9,'Storages Background Info'!$C$2:$R$29,14,FALSE)+'User Input'!$E$25)*VLOOKUP(G9,'Storages Background Info'!$C$2:$R$29,12,FALSE))*I9, "") -> 0 | N9: =IFERROR(VLOOKUP(G9,'Storages Background Info'!$C$2:$T$30,18, FALSE)*$C$5,"") -> 0 | O9: =IFERROR(M9*Constants!$B$3, "") -> 0 | P9: =IFERROR(VLOOKUP(G9,'Storages Background Info'!$C$2:$R$30,16,FALSE)*Constants!$C$3,"") -> 1000 | Q9: =IFERROR(VLOOKUP(G9,'Storages Background Info'!$C$2:$S$30,17,FALSE)*Constants!$E$3, "") -> 1200 | R9: =IF(SUM(N9:Q9)=0,"",SUM(N9:Q9)) -> 2200 | S9: =IFERROR(VLOOKUP(G9, 'Storages Background Info'!$C$3:$U$29,19,FALSE), "") -> 45852
E10: Concrete | F10: Storm Trap | G10: 1800x1200 (mm) | H10: =IFERROR(VLOOKUP(G10, 'Storages Background Info'!$C$3:$W$29,21,FALSE), "") -> 6 | I10: =IFERROR(ROUNDUP($C$5/VLOOKUP(G10,'Storages Background Info'!$C$2:$K$29,9,FALSE),0),"") -> 0 | J10: =IFERROR(ROUNDUP(I10*VLOOKUP(G10,'Storages Background Info'!$C$3:$N$29,12,FALSE),2), "") -> 0 | K10: =IFERROR(ROUNDUP(VLOOKUP(G10,'Storages Background Info'!$C$3:$U$29,13,FALSE)+VLOOKUP(G10,'Storages Background Info'!$C$3:$U$29,15,FALSE)+'User Input'!$E$25, 2), "") -> 3 | L10: =IFERROR(ROUNDUP(VLOOKUP(G10,'Storages Background Info'!$C$3:$U$29,14,FALSE), 2), "") -> 6 | M10: =IFERROR(((VLOOKUP(G10,'Storages Background Info'!$C$2:$R$29,13,FALSE)+VLOOKUP(G10,'Storages Background Info'!$C$2:$R$29,14,FALSE)+'User Input'!$E$25)*VLOOKUP(G10,'Storages Background Info'!$C$2:$R$29,12,FALSE))*I10, "") -> 0 | N10: =IFERROR(VLOOKUP(G10,'Storages Background Info'!$C$2:$T$30,18, FALSE)*$C$5,"") -> 0 | O10: =IFERROR(M10*Constants!$B$3, "") -> 0 | P10: =IFERROR(VLOOKUP(G10,'Storages Background Info'!$C$2:$R$30,16,FALSE)*Constants!$C$3,"") -> 1000 | Q10: =IFERROR(VLOOKUP(G10,'Storages Background Info'!$C$2:$S$30,17,FALSE)*Constants!$E$3, "") -> 1200 | R10: =IF(SUM(N10:Q10)=0,"",SUM(N10:Q10)) -> 2200 | S10: =IFERROR(VLOOKUP(G10, 'Storages Background Info'!$C$3:$U$29,19,FALSE), "") -> 45852
E11: Concrete | F11: Storm Trap | G11: 2400x1200 (mm) | H11: =IFERROR(VLOOKUP(G11, 'Storages Background Info'!$C$3:$W$29,21,FALSE), "") -> 7 | I11: =IFERROR(ROUNDUP($C$5/VLOOKUP(G11,'Storages Background Info'!$C$2:$K$29,9,FALSE),0),"") -> 0 | J11: =IFERROR(ROUNDUP(I11*VLOOKUP(G11,'Storages Background Info'!$C$3:$N$29,12,FALSE),2), "") -> 0 | K11: =IFERROR(ROUNDUP(VLOOKUP(G11,'Storages Background Info'!$C$3:$U$29,13,FALSE)+VLOOKUP(G11,'Storages Background Info'!$C$3:$U$29,15,FALSE)+'User Input'!$E$25, 2), "") -> 3 | L11: =IFERROR(ROUNDUP(VLOOKUP(G11,'Storages Background Info'!$C$3:$U$29,14,FALSE), 2), "") -> 7.2 | M11: =IFERROR(((VLOOKUP(G11,'Storages Background Info'!$C$2:$R$29,13,FALSE)+VLOOKUP(G11,'Storages Background Info'!$C$2:$R$29,14,FALSE)+'User Input'!$E$25)*VLOOKUP(G11,'Storages Background Info'!$C$2:$R$29,12,FALSE))*I11, "") -> 0 | N11: =IFERROR(VLOOKUP(G11,'Storages Background Info'!$C$2:$T$30,18, FALSE)*$C$5,"") -> 0 | O11: =IFERROR(M11*Constants!$B$3, "") -> 0 | P11: =IFERROR(VLOOKUP(G11,'Storages Background Info'!$C$2:$R$30,16,FALSE)*Constants!$C$3,"") -> 1000 | Q11: =IFERROR(VLOOKUP(G11,'Storages Background Info'!$C$2:$S$30,17,FALSE)*Constants!$E$3, "") -> 1200 | R11: =IF(SUM(N11:Q11)=0,"",SUM(N11:Q11)) -> 2200 | S11: =IFERROR(VLOOKUP(G11, 'Storages Background Info'!$C$3:$U$29,19,FALSE), "") -> 45852
E12: Concrete | F12: Storm Trap | G12: 2400x1800 (mm) | H12: =IFERROR(VLOOKUP(G12, 'Storages Background Info'!$C$3:$W$29,21,FALSE), "") -> 8 | I12: =IFERROR(ROUNDUP($C$5/VLOOKUP(G12,'Storages Background Info'!$C$2:$K$29,9,FALSE),0),"") -> 0 | J12: =IFERROR(ROUNDUP(I12*VLOOKUP(G12,'Storages Background Info'!$C$3:$N$29,12,FALSE),2), "") -> 0 | K12: =IFERROR(ROUNDUP(VLOOKUP(G12,'Storages Background Info'!$C$3:$U$29,13,FALSE)+VLOOKUP(G12,'Storages Background Info'!$C$3:$U$29,15,FALSE)+'User Input'!$E$25, 2), "") -> 3 | L12: =IFERROR(ROUNDUP(VLOOKUP(G12,'Storages Background Info'!$C$3:$U$29,14,FALSE), 2), "") -> 8.4 | M12: =IFERROR(((VLOOKUP(G12,'Storages Background Info'!$C$2:$R$29,13,FALSE)+VLOOKUP(G12,'Storages Background Info'!$C$2:$R$29,14,FALSE)+'User Input'!$E$25)*VLOOKUP(G12,'Storages Background Info'!$C$2:$R$29,12,FALSE))*I12, "") -> 0 | N12: =IFERROR(VLOOKUP(G12,'Storages Background Info'!$C$2:$T$30,18, FALSE)*$C$5,"") -> 0 | O12: =IFERROR(M12*Constants!$B$3, "") -> 0 | P12: =IFERROR(VLOOKUP(G12,'Storages Background Info'!$C$2:$R$30,16,FALSE)*Constants!$C$3,"") -> 1000 | Q12: =IFERROR(VLOOKUP(G12,'Storages Background Info'!$C$2:$S$30,17,FALSE)*Constants!$E$3, "") -> 1200 | R12: =IF(SUM(N12:Q12)=0,"",SUM(N12:Q12)) -> 2200 | S12: =IFERROR(VLOOKUP(G12, 'Storages Background Info'!$C$3:$U$29,19,FALSE), "") -> 45852
E13: Concrete | F13: Storm Trap | G13: 2440x2400 (mm) | H13: =IFERROR(VLOOKUP(G13, 'Storages Background Info'!$C$3:$W$29,21,FALSE), "") -> 9 | I13: =IFERROR(ROUNDUP($C$5/VLOOKUP(G13,'Storages Background Info'!$C$2:$K$29,9,FALSE),0),"") -> 0 | J13: =IFERROR(ROUNDUP(I13*VLOOKUP(G13,'Storages Background Info'!$C$3:$N$29,12,FALSE),2), "") -> 0 | K13: =IFERROR(ROUNDUP(VLOOKUP(G13,'Storages Background Info'!$C$3:$U$29,13,FALSE)+VLOOKUP(G13,'Storages Background Info'!$C$3:$U$29,15,FALSE)+'User Input'!$E$25, 2), "") -> 3.44 | L13: =IFERROR(ROUNDUP(VLOOKUP(G13,'Storages Background Info'!$C$3:$U$29,14,FALSE), 2), "") -> 9.76 | M13: =IFERROR(((VLOOKUP(G13,'Storages Background Info'!$C$2:$R$29,13,FALSE)+VLOOKUP(G13,'Storages Background Info'!$C$2:$R$29,14,FALSE)+'User Input'!$E$25)*VLOOKUP(G13,'Storages Background Info'!$C$2:$R$29,12,FALSE))*I13, "") -> 0 | N13: =IFERROR(VLOOKUP(G13,'Storages Background Info'!$C$2:$T$30,18, FALSE)*$C$5,"") -> 0 | O13: =IFERROR(M13*Constants!$B$3, "") -> 0 | P13: =IFERROR(VLOOKUP(G13,'Storages Background Info'!$C$2:$R$30,16,FALSE)*Constants!$C$3,"") -> 1000 | Q13: =IFERROR(VLOOKUP(G13,'Storages Background Info'!$C$2:$S$30,17,FALSE)*Constants!$E$3, "") -> 1200 | R13: =IF(SUM(N13:Q13)=0,"",SUM(N13:Q13)) -> 2200 | S13: =IFERROR(VLOOKUP(G13, 'Storages Background Info'!$C$3:$U$29,19,FALSE), "") -> 45852
E14: Concrete | F14: Urban Pond | G14: 8x16x3 (ft) | H14: =IFERROR(VLOOKUP(G14, 'Storages Background Info'!$C$3:$W$29,21,FALSE), "") -> 10 | I14: =IFERROR(ROUNDUP($C$5/VLOOKUP(G14,'Storages Background Info'!$C$2:$K$29,9,FALSE),0),"") -> 0 | J14: =IFERROR(ROUNDUP(I14*VLOOKUP(G14,'Storages Background Info'!$C$3:$N$29,12,FALSE),2), "") -> 0 | K14: =IFERROR(ROUNDUP(VLOOKUP(G14,'Storages Background Info'!$C$3:$U$29,13,FALSE)+VLOOKUP(G14,'Storages Background Info'!$C$3:$U$29,15,FALSE)+'User Input'!$E$25, 2), "") -> 1.67 | L14: =IFERROR(ROUNDUP(VLOOKUP(G14,'Storages Background Info'!$C$3:$U$29,14,FALSE), 2), "") -> 15 | M14: =IFERROR(((VLOOKUP(G14,'Storages Background Info'!$C$2:$R$29,13,FALSE)+VLOOKUP(G14,'Storages Background Info'!$C$2:$R$29,14,FALSE)+'User Input'!$E$25)*VLOOKUP(G14,'Storages Background Info'!$C$2:$R$29,12,FALSE))*I14, "") -> 0 | N14: =IFERROR(VLOOKUP(G14,'Storages Background Info'!$C$2:$T$30,18, FALSE)*$C$5,"") -> 0 | O14: =IFERROR(M14*Constants!$B$3, "") -> 0 | P14: =IFERROR(VLOOKUP(G14,'Storages Background Info'!$C$2:$R$30,16,FALSE)*Constants!$C$3,"") -> 1000 | Q14: =IFERROR(VLOOKUP(G14,'Storages Background Info'!$C$2:$S$30,17,FALSE)*Constants!$E$3, "") -> 1200 | R14: =IF(SUM(N14:Q14)=0,"",SUM(N14:Q14)) -> 2200 | S14: =IFERROR(VLOOKUP(G14, 'Storages Background Info'!$C$3:$U$29,19,FALSE), "") -> 45784
E15: Concrete | F15: Urban Pond | G15: 8x16x4 (ft) | H15: =IFERROR(VLOOKUP(G15, 'Storages Background Info'!$C$3:$W$29,21,FALSE), "") -> 11 | I15: =IFERROR(ROUNDUP($C$5/VLOOKUP(G15,'Storages Background Info'!$C$2:$K$29,9,FALSE),0),"") -> 0 | J15: =IFERROR(ROUNDUP(I15*VLOOKUP(G15,'Storages Background Info'!$C$3:$N$29,12,FALSE),2), "") -> 0 | K15: =IFERROR(ROUNDUP(VLOOKUP(G15,'Storages Background Info'!$C$3:$U$29,13,FALSE)+VLOOKUP(G15,'Storages Background Info'!$C$3:$U$29,15,FALSE)+'User Input'!$E$25, 2), "") -> 1.97 | L15: =IFERROR(ROUNDUP(VLOOKUP(G15,'Storages Background Info'!$C$3:$U$29,14,FALSE), 2), "") -> 15 | M15: =IFERROR(((VLOOKUP(G15,'Storages Background Info'!$C$2:$R$29,13,FALSE)+VLOOKUP(G15,'Storages Background Info'!$C$2:$R$29,14,FALSE)+'User Input'!$E$25)*VLOOKUP(G15,'Storages Background Info'!$C$2:$R$29,12,FALSE))*I15, "") -> 0 | N15: =IFERROR(VLOOKUP(G15,'Storages Background Info'!$C$2:$T$30,18, FALSE)*$C$5,"") -> 0 | O15: =IFERROR(M15*Constants!$B$3, "") -> 0 | P15: =IFERROR(VLOOKUP(G15,'Storages Background Info'!$C$2:$R$30,16,FALSE)*Constants!$C$3,"") -> 1000 | Q15: =IFERROR(VLOOKUP(G15,'Storages Background Info'!$C$2:$S$30,17,FALSE)*Constants!$E$3, "") -> 1200 | R15: =IF(SUM(N15:Q15)=0,"",SUM(N15:Q15)) -> 2200 | S15: =IFERROR(VLOOKUP(G15, 'Storages Background Info'!$C$3:$U$29,19,FALSE), "") -> 45784
E16: Concrete | F16: Urban Pond | G16: 8x16x5 (ft) | H16: =IFERROR(VLOOKUP(G16, 'Storages Background Info'!$C$3:$W$29,21,FALSE), "") -> 12 | I16: =IFERROR(ROUNDUP($C$5/VLOOKUP(G16,'Storages Background Info'!$C$2:$K$29,9,FALSE),0),"") -> 0 | J16: =IFERROR(ROUNDUP(I16*VLOOKUP(G16,'Storages Background Info'!$C$3:$N$29,12,FALSE),2), "") -> 0 | K16: =IFERROR(ROUNDUP(VLOOKUP(G16,'Storages Background Info'!$C$3:$U$29,13,FALSE)+VLOOKUP(G16,'Storages Background Info'!$C$3:$U$29,15,FALSE)+'User Input'!$E$25, 2), "") -> 2.28 | L16: =IFERROR(ROUNDUP(VLOOKUP(G16,'Storages Background Info'!$C$3:$U$29,14,FALSE), 2), "") -> 15 | M16: =IFERROR(((VLOOKUP(G16,'Storages Background Info'!$C$2:$R$29,13,FALSE)+VLOOKUP(G16,'Storages Background Info'!$C$2:$R$29,14,FALSE)+'User Input'!$E$25)*VLOOKUP(G16,'Storages Background Info'!$C$2:$R$29,12,FALSE))*I16, "") -> 0 | N16: =IFERROR(VLOOKUP(G16,'Storages Background Info'!$C$2:$T$30,18, FALSE)*$C$5,"") -> 0 | O16: =IFERROR(M16*Constants!$B$3, "") -> 0 | P16: =IFERROR(VLOOKUP(G16,'Storages Background Info'!$C$2:$R$30,16,FALSE)*Constants!$C$3,"") -> 1000 | Q16: =IFERROR(VLOOKUP(G16,'Storages Background Info'!$C$2:$S$30,17,FALSE)*Constants!$E$3, "") -> 1200 | R16: =IF(SUM(N16:Q16)=0,"",SUM(N16:Q16)) -> 2200 | S16: =IFERROR(VLOOKUP(G16, 'Storages Background Info'!$C$3:$U$29,19,FALSE), "") -> 45784
E17: Concrete | F17: Urban Pond | G17: 8x16x6 (ft) | H17: =IFERROR(VLOOKUP(G17, 'Storages Background Info'!$C$3:$W$29,21,FALSE), "") -> 13 | I17: =IFERROR(ROUNDUP($C$5/VLOOKUP(G17,'Storages Background Info'!$C$2:$K$29,9,FALSE),0),"") -> 0 | J17: =IFERROR(ROUNDUP(I17*VLOOKUP(G17,'Storages Background Info'!$C$3:$N$29,12,FALSE),2), "") -> 0 | K17: =IFERROR(ROUNDUP(VLOOKUP(G17,'Storages Background Info'!$C$3:$U$29,13,FALSE)+VLOOKUP(G17,'Storages Background Info'!$C$3:$U$29,15,FALSE)+'User Input'!$E$25, 2), "") -> 2.58 | L17: =IFERROR(ROUNDUP(VLOOKUP(G17,'Storages Background Info'!$C$3:$U$29,14,FALSE), 2), "") -> 15 | M17: =IFERROR(((VLOOKUP(G17,'Storages Background Info'!$C$2:$R$29,13,FALSE)+VLOOKUP(G17,'Storages Background Info'!$C$2:$R$29,14,FALSE)+'User Input'!$E$25)*VLOOKUP(G17,'Storages Background Info'!$C$2:$R$29,12,FALSE))*I17, "") -> 0 | N17: =IFERROR(VLOOKUP(G17,'Storages Background Info'!$C$2:$T$30,18, FALSE)*$C$5,"") -> 0 | O17: =IFERROR(M17*Constants!$B$3, "") -> 0 | P17: =IFERROR(VLOOKUP(G17,'Storages Background Info'!$C$2:$R$30,16,FALSE)*Constants!$C$3,"") -> 1000 | Q17: =IFERROR(VLOOKUP(G17,'Storages Background Info'!$C$2:$S$30,17,FALSE)*Constants!$E$3, "") -> 1200 | R17: =IF(SUM(N17:Q17)=0,"",SUM(N17:Q17)) -> 2200 | S17: =IFERROR(VLOOKUP(G17, 'Storages Background Info'!$C$3:$U$29,19,FALSE), "") -> 45784
K18: =IFERROR(ROUNDUP(VLOOKUP(G18,'Storages Background Info'!$C$3:$U$29,13,FALSE)+VLOOKUP(G18,'Storages Background Info'!$C$3:$U$29,15,FALSE)+'User Input'!$E$25, 2), "") | L18: =IFERROR(ROUNDUP(VLOOKUP(G18,'Storages Background Info'!$C$3:$U$29,14,FALSE), 2), "") | M18: Average Costs | N18: =IFERROR(AVERAGE(N5:N17), "") -> 0 | O18: =IFERROR(AVERAGE(O5:O17), "") -> 0 | P18: =IFERROR(AVERAGE(P5:P17), "") -> 1000 | Q18: =IFERROR(AVERAGE(Q5:Q17), "") -> 1200 | R18: =IFERROR(AVERAGE(R5:R17), "") -> 2200
K19: =IFERROR(ROUNDUP(VLOOKUP(G19,'Storages Background Info'!$C$3:$U$29,13,FALSE)+VLOOKUP(G19,'Storages Background Info'!$C$3:$U$29,15,FALSE)+'User Input'!$E$25, 2), "") | L19: =IFERROR(ROUNDUP(VLOOKUP(G19,'Storages Background Info'!$C$3:$U$29,14,FALSE), 2), "") | M19: High End Costs | N19: =MAX(N5:N17) -> 0 | O19: =MAX(O5:O17) -> 0 | P19: =MAX(P5:P17) -> 1000 | Q19: =MAX(Q5:Q17) -> 1200 | R19: =SUM(N19:Q19) -> 2200
M20: Low End Costs | N20: =MIN(N5:N17) -> 0 | O20: =MIN(O5:O17) -> 0 | P20: =MIN(P5:P17) -> 1000 | Q20: =MIN(Q5:Q17) -> 1200 | R20: =SUM(N20:Q20) -> 2200
H22: Flow Control Infrastructure
F23: Brand | G23: Product Description | H23: Product Index | I23: Module Cost
E24: {=_xlfn._xlws.FILTER('Flow Control Background Info'!$A$2:$C$7,'Flow Control Background Info'!$A$2:$A$7='Cost Breakdown'!$C$7,"")} -> Orifice | F24: ACO | G24: Q-Plate | H24: =IFERROR(VLOOKUP(G24,'Flow Control Background Info'!$C$2:$E$7,3,FALSE), "") -> 1 | I24: =IFERROR(VLOOKUP(G24,'Flow Control Background Info'!$C$2:$D$7,2,FALSE), "") -> 450
H25: =IFERROR(VLOOKUP(G25,'Flow Control Background Info'!$C$2:$E$7,3,FALSE), "") | I25: =IFERROR(VLOOKUP(G25,'Flow Control Background Info'!$C$2:$D$7,2,FALSE), "")
H26: =IFERROR(VLOOKUP(G26,'Flow Control Background Info'!$C$2:$E$7,3,FALSE), "") | I26: =IFERROR(VLOOKUP(G26,'Flow Control Background Info'!$C$2:$D$7,2,FALSE), "")
H27: =IFERROR(VLOOKUP(G27,'Flow Control Background Info'!$C$2:$E$7,3,FALSE), "") | I27: =IFERROR(VLOOKUP(G27,'Flow Control Background Info'!$C$2:$D$7,2,FALSE), "")
G28: Average Costs | I28: =IFERROR(AVERAGEIF(I24:I27,"<>0"), "") -> 450

Sheet Cost Estimate
E1: Product Type hide | F1: Brand | G1: Product Name | H1: Number of Modules | I1: Footprint Required (m2) | J1: Excavation Required (m3) | K1: Module Cost | L1: Excavation Cost | M1: Transportation Cost | N1: Labour Cost | O1: Engineering Cost | P1: Total Cost
A2: Input | B2: Storage Volume Required (m3) | C2: 30 | E2: {=_xlfn._xlws.FILTER('Storages Background Info'!A3:C29,'Storages Background Info'!A3:A29=C3,"")} -> Concrete | F2: Storm Capture | G2: 7x15x2 (ft) | H2: =IFERROR(ROUNDUP($C$2/VLOOKUP('Cost Estimate'!G2,'Storages Background Info'!$C$2:$K$29,9,FALSE),0),"") -> 6 | I2: =IFERROR(ROUNDUP(H2*VLOOKUP(G2,'Storages Background Info'!$C$3:$N$29,12,FALSE),2), "") -> 58.53 | J2: =IFERROR(((VLOOKUP(G2,'Storages Background Info'!$C$2:$R$29,13,FALSE)+VLOOKUP(G2,'Storages Background Info'!$C$2:$R$29,14,FALSE))*VLOOKUP(G2,'Storages Background Info'!$C$2:$R$29,12,FALSE))*H2, "") -> 840.45181 | K2: =IFERROR(VLOOKUP(G2,'Storages Background Info'!$C$2:$T$30,17, FALSE)*'Cost Estimate'!$C$2,"") -> 360 | L2: =IFERROR(J2*Constants!$B$3, "") -> 21011.295 | M2: =IFERROR(VLOOKUP(G2,'Storages Background Info'!$C$2:$R$30,15,FALSE)*Constants!$C$3,"") -> 300 | N2: =IFERROR(VLOOKUP(G2,'Storages Background Info'!$C$2:$S$30,16,FALSE)*Constants!$E$3, "") -> 200 | O2: =SUM(K2:N2)*Constants!$D$3 -> 2187.1295 | P2: =SUM(K2:O2) -> 24058.425
A3: Select | B3: Product Type | C3: Concrete | E3: Concrete | F3: Storm Capture | G3: 7x15x4 (ft) | H3: =IFERROR(ROUNDUP($C$2/VLOOKUP('Cost Estimate'!G3,'Storages Background Info'!$C$2:$K$29,9,FALSE),0),"") -> 3 | I3: =IFERROR(ROUNDUP(H3*VLOOKUP(G3,'Storages Background Info'!$C$3:$N$29,12,FALSE),2), "") -> 29.27 | J3: =IFERROR(((VLOOKUP(G3,'Storages Background Info'!$C$2:$R$29,13,FALSE)+VLOOKUP(G3,'Storages Background Info'!$C$2:$R$29,14,FALSE))*VLOOKUP(G3,'Storages Background Info'!$C$2:$R$29,12,FALSE))*H3, "") -> 438.06552 | K3: =IFERROR(VLOOKUP(G3,'Storages Background Info'!$C$2:$T$30,17, FALSE)*'Cost Estimate'!$C$2,"") -> 360 | L3: =IFERROR(J3*Constants!$B$3, "") -> 10951.638 | M3: =IFERROR(VLOOKUP(G3,'Storages Background Info'!$C$2:$R$30,15,FALSE)*Constants!$C$3,"") -> 300 | N3: =IFERROR(VLOOKUP(G3,'Storages Background Info'!$C$2:$S$30,16,FALSE)*Constants!$E$3, "") -> 200 | O3: =SUM(K3:N3)*Constants!$D$3 -> 1181.1638 | P3: =SUM(K3:O3) -> 12992.802
E4: Concrete | F4: Storm Capture | G4: 7x15x6 (ft) | H4: =IFERROR(ROUNDUP($C$2/VLOOKUP('Cost Estimate'!G4,'Storages Background Info'!$C$2:$K$29,9,FALSE),0),"") -> 2 | I4: =IFERROR(ROUNDUP(H4*VLOOKUP(G4,'Storages Background Info'!$C$3:$N$29,12,FALSE),2), "") -> 19.51 | J4: =IFERROR(((VLOOKUP(G4,'Storages Background Info'!$C$2:$R$29,13,FALSE)+VLOOKUP(G4,'Storages Background Info'!$C$2:$R$29,14,FALSE))*VLOOKUP(G4,'Storages Background Info'!$C$2:$R$29,12,FALSE))*H4, "") -> 303.93675 | K4: =IFERROR(VLOOKUP(G4,'Storages Background Info'!$C$2:$T$30,17, FALSE)*'Cost Estimate'!$C$2,"") -> 360 | L4: =IFERROR(J4*Constants!$B$3, "") -> 7598.4189 | M4: =IFERROR(VLOOKUP(G4,'Storages Background Info'!$C$2:$R$30,15,FALSE)*Constants!$C$3,"") -> 300 | N4: =IFERROR(VLOOKUP(G4,'Storages Background Info'!$C$2:$S$30,16,FALSE)*Constants!$E$3, "") -> 200 | O4: =SUM(K4:N4)*Constants!$D$3 -> 845.84189 | P4: =SUM(K4:O4) -> 9304.2608
E5: Concrete | F5: Storm Capture | G5: 7x15x8 (ft) | H5: =IFERROR(ROUNDUP($C$2/VLOOKUP('Cost Estimate'!G5,'Storages Background Info'!$C$2:$K$29,9,FALSE),0),"") -> 2 | I5: =IFERROR(ROUNDUP(H5*VLOOKUP(G5,'Storages Background Info'!$C$3:$N$29,12,FALSE),2), "") -> 19.51 | J5: =IFERROR(((VLOOKUP(G5,'Storages Background Info'!$C$2:$R$29,13,FALSE)+VLOOKUP(G5,'Storages Background Info'!$C$2:$R$29,14,FALSE))*VLOOKUP(G5,'Storages Background Info'!$C$2:$R$29,12,FALSE))*H5, "") -> 315.82983 | K5: =IFERROR(VLOOKUP(G5,'Storages Background Info'!$C$2:$T$30,17, FALSE)*'Cost Estimate'!$C$2,"") -> 360 | L5: =IFERROR(J5*Constants!$B$3, "") -> 7895.7458 | M5: =IFERROR(VLOOKUP(G5,'Storages Background Info'!$C$2:$R$30,15,FALSE)*Constants!$C$3,"") -> 300 | N5: =IFERROR(VLOOKUP(G5,'Storages Background Info'!$C$2:$S$30,16,FALSE)*Constants!$E$3, "") -> 200 | O5: =SUM(K5:N5)*Constants!$D$3 -> 875.57458 | P5: =SUM(K5:O5) -> 9631.3203
E6: Concrete | F6: Storm Trap | G6: 1200x900 (mm) | H6: =IFERROR(ROUNDUP($C$2/VLOOKUP('Cost Estimate'!G6,'Storages Background Info'!$C$2:$K$29,9,FALSE),0),"") -> 15 | I6: =IFERROR(ROUNDUP(H6*VLOOKUP(G6,'Storages Background Info'!$C$3:$N$29,12,FALSE),2), "") -> 16.2 | J6: =IFERROR(((VLOOKUP(G6,'Storages Background Info'!$C$2:$R$29,13,FALSE)+VLOOKUP(G6,'Storages Background Info'!$C$2:$R$29,14,FALSE))*VLOOKUP(G6,'Storages Background Info'!$C$2:$R$29,12,FALSE))*H6, "") -> 100.44 | K6: =IFERROR(VLOOKUP(G6,'Storages Background Info'!$C$2:$T$30,17, FALSE)*'Cost Estimate'!$C$2,"") -> 360 | L6: =IFERROR(J6*Constants!$B$3, "") -> 2511 | M6: =IFERROR(VLOOKUP(G6,'Storages Background Info'!$C$2:$R$30,15,FALSE)*Constants!$C$3,"") -> 500 | N6: =IFERROR(VLOOKUP(G6,'Storages Background Info'!$C$2:$S$30,16,FALSE)*Constants!$E$3, "") -> 200 | O6: =SUM(K6:N6)*Constants!$D$3 -> 357.1 | P6: =SUM(K6:O6) -> 3928.1
E7: Concrete | F7: Storm Trap | G7: 1800x1200 (mm) | H7: =IFERROR(ROUNDUP($C$2/VLOOKUP('Cost Estimate'!G7,'Storages Background Info'!$C$2:$K$29,9,FALSE),0),"") -> 8 | I7: =IFERROR(ROUNDUP(H7*VLOOKUP(G7,'Storages Background Info'!$C$3:$N$29,12,FALSE),2), "") -> 17.28 | J7: =IFERROR(((VLOOKUP(G7,'Storages Background Info'!$C$2:$R$29,13,FALSE)+VLOOKUP(G7,'Storages Background Info'!$C$2:$R$29,14,FALSE))*VLOOKUP(G7,'Storages Background Info'!$C$2:$R$29,12,FALSE))*H7, "") -> 138.24 | K7: =IFERROR(VLOOKUP(G7,'Storages Background Info'!$C$2:$T$30,17, FALSE)*'Cost Estimate'!$C$2,"") -> 360 | L7: =IFERROR(J7*Constants!$B$3, "") -> 3456 | M7: =IFERROR(VLOOKUP(G7,'Storages Background Info'!$C$2:$R$30,15,FALSE)*Constants!$C$3,"") -> 500 | N7: =IFERROR(VLOOKUP(G7,'Storages Background Info'!$C$2:$S$30,16,FALSE)*Constants!$E$3, "") -> 200 | O7: =SUM(K7:N7)*Constants!$D$3 -> 451.6 | P7: =SUM(K7:O7) -> 4967.6
E8: Concrete | F8: Storm Trap | G8: 2400x1200 (mm) | H8: =IFERROR(ROUNDUP($C$2/VLOOKUP('Cost Estimate'!G8,'Storages Background Info'!$C$2:$K$29,9,FALSE),0),"") -> 6 | I8: =IFERROR(ROUNDUP(H8*VLOOKUP(G8,'Storages Background Info'!$C$3:$N$29,12,FALSE),2), "") -> 17.28 | J8: =IFERROR(((VLOOKUP(G8,'Storages Background Info'!$C$2:$R$29,13,FALSE)+VLOOKUP(G8,'Storages Background Info'!$C$2:$R$29,14,FALSE))*VLOOKUP(G8,'Storages Background Info'!$C$2:$R$29,12,FALSE))*H8, "") -> 158.976 | K8: =IFERROR(VLOOKUP(G8,'Storages Background Info'!$C$2:$T$30,17, FALSE)*'Cost Estimate'!$C$2,"") -> 360 | L8: =IFERROR(J8*Constants!$B$3, "") -> 3974.4 | M8: =IFERROR(VLOOKUP(G8,'Storages Background Info'!$C$2:$R$30,15,FALSE)*Constants!$C$3,"") -> 500 | N8: =IFERROR(VLOOKUP(G8,'Storages Background Info'!$C$2:$S$30,16,FALSE)*Constants!$E$3, "") -> 200 | O8: =SUM(K8:N8)*Constants!$D$3 -> 503.44 | P8: =SUM(K8:O8) -> 5537.84
E9: Concrete | F9: Storm Trap | G9: 2400x1800 (mm) | H9: =IFERROR(ROUNDUP($C$2/VLOOKUP('Cost Estimate'!G9,'Storages Background Info'!$C$2:$K$29,9,FALSE),0),"") -> 4 | I9: =IFERROR(ROUNDUP(H9*VLOOKUP(G9,'Storages Background Info'!$C$3:$N$29,12,FALSE),2), "") -> 17.28 | J9: =IFERROR(((VLOOKUP(G9,'Storages Background Info'!$C$2:$R$29,13,FALSE)+VLOOKUP(G9,'Storages Background Info'!$C$2:$R$29,14,FALSE))*VLOOKUP(G9,'Storages Background Info'!$C$2:$R$29,12,FALSE))*H9, "") -> 179.712 | K9: =IFERROR(VLOOKUP(G9,'Storages Background Info'!$C$2:$T$30,17, FALSE)*'Cost Estimate'!$C$2,"") -> 360 | L9: =IFERROR(J9*Constants!$B$3, "") -> 4492.8 | M9: =IFERROR(VLOOKUP(G9,'Storages Background Info'!$C$2:$R$30,15,FALSE)*Constants!$C$3,"") -> 500 | N9: =IFERROR(VLOOKUP(G9,'Storages Background Info'!$C$2:$S$30,16,FALSE)*Constants!$E$3, "") -> 200 | O9: =SUM(K9:N9)*Constants!$D$3 -> 555.28 | P9: =SUM(K9:O9) -> 6108.08
E10: Concrete | F10: Storm Trap | G10: 2440x2400 (mm) | H10: =IFERROR(ROUNDUP($C$2/VLOOKUP('Cost Estimate'!G10,'Storages Background Info'!$C$2:$K$29,9,FALSE),0),"") -> 3 | I10: =IFERROR(ROUNDUP(H10*VLOOKUP(G10,'Storages Background Info'!$C$3:$N$29,12,FALSE),2), "") -> 17.87 | J10: =IFERROR(((VLOOKUP(G10,'Storages Background Info'!$C$2:$R$29,13,FALSE)+VLOOKUP(G10,'Storages Background Info'!$C$2:$R$29,14,FALSE))*VLOOKUP(G10,'Storages Background Info'!$C$2:$R$29,12,FALSE))*H10, "") -> 217.90176 | K10: =IFERROR(VLOOKUP(G10,'Storages Background Info'!$C$2:$T$30,17, FALSE)*'Cost Estimate'!$C$2,"") -> 360 | L10: =IFERROR(J10*Constants!$B$3, "") -> 5447.544 | M10: =IFERROR(VLOOKUP(G10,'Storages Background Info'!$C$2:$R$30,15,FALSE)*Constants!$C$3,"") -> 500 | N10: =IFERROR(VLOOKUP(G10,'Storages Background Info'!$C$2:$S$30,16,FALSE)*Constants!$E$3, "") -> 200 | O10: =SUM(K10:N10)*Constants!$D$3 -> 650.7544 | P10: =SUM(K10:O10) -> 7158.2984
E11: Concrete | F11: Urban Pond | G11: 8x16x3 (ft) | H11: =IFERROR(ROUNDUP($C$2/VLOOKUP('Cost Estimate'!G11,'Storages Background Info'!$C$2:$K$29,9,FALSE),0),"") -> 3 | I11: =IFERROR(ROUNDUP(H11*VLOOKUP(G11,'Storages Background Info'!$C$3:$N$29,12,FALSE),2), "") -> 35.68 | J11: =IFERROR(((VLOOKUP(G11,'Storages Background Info'!$C$2:$R$29,13,FALSE)+VLOOKUP(G11,'Storages Background Info'!$C$2:$R$29,14,FALSE))*VLOOKUP(G11,'Storages Background Info'!$C$2:$R$29,12,FALSE))*H11, "") -> 567.74252 | K11: =IFERROR(VLOOKUP(G11,'Storages Background Info'!$C$2:$T$30,17, FALSE)*'Cost Estimate'!$C$2,"") -> 360 | L11: =IFERROR(J11*Constants!$B$3, "") -> 14193.563 | M11: =IFERROR(VLOOKUP(G11,'Storages Background Info'!$C$2:$R$30,15,FALSE)*Constants!$C$3,"") -> 375 | N11: =IFERROR(VLOOKUP(G11,'Storages Background Info'!$C$2:$S$30,16,FALSE)*Constants!$E$3, "") -> 200 | O11: =SUM(K11:N11)*Constants!$D$3 -> 1512.8563 | P11: =SUM(K11:O11) -> 16641.419
E12: Concrete | F12: Urban Pond | G12: 8x16x4 (ft) | H12: =IFERROR(ROUNDUP($C$2/VLOOKUP('Cost Estimate'!G12,'Storages Background Info'!$C$2:$K$29,9,FALSE),0),"") -> 3 | I12: =IFERROR(ROUNDUP(H12*VLOOKUP(G12,'Storages Background Info'!$C$3:$N$29,12,FALSE),2), "") -> 35.68 | J12: =IFERROR(((VLOOKUP(G12,'Storages Background Info'!$C$2:$R$29,13,FALSE)+VLOOKUP(G12,'Storages Background Info'!$C$2:$R$29,14,FALSE))*VLOOKUP(G12,'Storages Background Info'!$C$2:$R$29,12,FALSE))*H12, "") -> 578.61619 | K12: =IFERROR(VLOOKUP(G12,'Storages Background Info'!$C$2:$T$30,17, FALSE)*'Cost Estimate'!$C$2,"") -> 360 | L12: =IFERROR(J12*Constants!$B$3, "") -> 14465.405 | M12: =IFERROR(VLOOKUP(G12,'Storages Background Info'!$C$2:$R$30,15,FALSE)*Constants!$C$3,"") -> 375 | N12: =IFERROR(VLOOKUP(G12,'Storages Background Info'!$C$2:$S$30,16,FALSE)*Constants!$E$3, "") -> 200 | O12: =SUM(K12:N12)*Constants!$D$3 -> 1540.0405 | P12: =SUM(K12:O12) -> 16940.445
E13: Concrete | F13: Urban Pond | G13: 8x16x5 (ft) | H13: =IFERROR(ROUNDUP($C$2/VLOOKUP('Cost Estimate'!G13,'Storages Background Info'!$C$2:$K$29,9,FALSE),0),"") -> 2 | I13: =IFERROR(ROUNDUP(H13*VLOOKUP(G13,'Storages Background Info'!$C$3:$N$29,12,FALSE),2), "") -> 23.79 | J13: =IFERROR(((VLOOKUP(G13,'Storages Background Info'!$C$2:$R$29,13,FALSE)+VLOOKUP(G13,'Storages Background Info'!$C$2:$R$29,14,FALSE))*VLOOKUP(G13,'Storages Background Info'!$C$2:$R$29,12,FALSE))*H13, "") -> 392.99324 | K13: =IFERROR(VLOOKUP(G13,'Storages Background Info'!$C$2:$T$30,17, FALSE)*'Cost Estimate'!$C$2,"") -> 360 | L13: =IFERROR(J13*Constants!$B$3, "") -> 9824.8309 | M13: =IFERROR(VLOOKUP(G13,'Storages Background Info'!$C$2:$R$30,15,FALSE)*Constants!$C$3,"") -> 375 | N13: =IFERROR(VLOOKUP(G13,'Storages Background Info'!$C$2:$S$30,16,FALSE)*Constants!$E$3, "") -> 200 | O13: =SUM(K13:N13)*Constants!$D$3 -> 1075.9831 | P13: =SUM(K13:O13) -> 11835.814
E14: Concrete | F14: Urban Pond | G14: 8x16x6 (ft) | H14: =IFERROR(ROUNDUP($C$2/VLOOKUP('Cost Estimate'!G14,'Storages Background Info'!$C$2:$K$29,9,FALSE),0),"") -> 2 | I14: =IFERROR(ROUNDUP(H14*VLOOKUP(G14,'Storages Background Info'!$C$3:$N$29,12,FALSE),2), "") -> 23.79 | J14: =IFERROR(((VLOOKUP(G14,'Storages Background Info'!$C$2:$R$29,13,FALSE)+VLOOKUP(G14,'Storages Background Info'!$C$2:$R$29,14,FALSE))*VLOOKUP(G14,'Storages Background Info'!$C$2:$R$29,12,FALSE))*H14, "") -> 400.24235 | K14: =IFERROR(VLOOKUP(G14,'Storages Background Info'!$C$2:$T$30,17, FALSE)*'Cost Estimate'!$C$2,"") -> 360 | L14: =IFERROR(J14*Constants!$B$3, "") -> 10006.059 | M14: =IFERROR(VLOOKUP(G14,'Storages Background Info'!$C$2:$R$30,15,FALSE)*Constants!$C$3,"") -> 375 | N14: =IFERROR(VLOOKUP(G14,'Storages Background Info'!$C$2:$S$30,16,FALSE)*Constants!$E$3, "") -> 200 | O14: =SUM(K14:N14)*Constants!$D$3 -> 1094.1059 | P14: =SUM(K14:O14) -> 12035.165

Sheet Planning
A1: Supply | C1: Installation | G1: Variability | N1: Questions
A2: Material | C2: Excavation (Only Additional Depth) | G2: Additional Considerations | N2: ="- What product depth should be assumed?" -> - What product depth should be assumed?
A3: Shipping | C3: Labour
C4: Equipment (special)
C5: Backfill
C6: Liners
C7: Additional Materials
A9: Material | G9: Excavation
A10: Cost Variablity: | G10: Cost Variablity:
B11: Price per module | H11: Depth
B12: It may be cheaper to purchase multiple modules. | H12: Costs more to dig deeper
B15: Product Size | H15: Soil
B16: Larger prodcuts are more likely to cost more. | H16: Are there large rocks that will be an issue?
H19: Equipment
A20: Shipping | H20: What equipment is required for the excavation.
A21: Cost Variablity:
B22: Distance
B23: Greater distance is likely to cost more. (Gas, drivers cost) | G23: Labour
G24: Cost Variablity:
B26: Weight of Product | H26: Number of People Required
B27: Heavier products are going to cost more to ship. | H27: How many people are needed for installation?
B30: Product Configuration | H30: Skilled Labour
B31: If products are stackable, more products can fit on one truckload. | H31: Does the labourer need to be specially trained?
H34: Installation Time
H35: How long does it take to install?
G39: Equipment
G40: Cost Variablity:
H41: Special Equipment
H42: Is any special equipment required for installation?
G46: Backfill
G47: Cost Variablity:
H48: Material
H49: What type of backfill is required?
H52: Depth
H53: The deeper the ecavation, the more backfill is required.
G57: Liners
G58: Cost Variablity:
H59: Required?
H60: Is a liner required for the product?
H63: Type
...

Sheet Site Planning
A1: 0.05 | E1: 0.08 | I1: 0.1 | M1: 0.2
A3: Release Rate | B3: 50 | E3: Release Rate | F3: 50 | I3: Release Rate | J3: 50 | M3: Release Rate | N3: 50
A4: C | B4: 0.8 | E4: C | F4: 0.8 | I4: C | J4: 0.8 | M4: C | N4: 0.8
B6: Area | C6: C | D6: =SUMPRODUCT(B7:B11,C7:C11)/B12 -> 0.79999941 | F6: Area | G6: C | H6: =SUMPRODUCT(F7:F11,G7:G11)/F12 -> 0.79999945 | J6: Area | K6: C | L6: =SUMPRODUCT(J7:J11,K7:K11)/J12 -> 0.79999994 | N6: Area | O6: C | P6: =SUMPRODUCT(N7:N11,O7:O11)/N12 -> 0.80000001
A7: Roof | B7: 261.99179 | C7: 1 | E7: Roof | F7: 455.42013 | G7: 1 | I7: Roof | J7: 591.73623 | K7: 1 | M7: Roof | N7: 1225.2218 | O7: 1
A8: Pavement | B8: 104.40313 | C8: 0.9 | E8: Pavement | F8: 127.4209 | G8: 0.9 | I8: Pavement | J8: 134.71853 | K8: 0.9 | M8: Pavement | N8: 218.99193 | O8: 0.9
A9: Gravel | B9: 51.583427 | C9: 0.5 | E9: Gravel | F9: 79.678302 | G9: 0.5 | I9: Gravel | J9: 99.077178 | K9: 0.5 | M9: Gravel | N9: 218.99193 | O9: 0.5
A10: Landscaping | B10: 39.669369 | C10: 0.3 | E10: Landscaping | F10: 62.93128 | G10: 0.3 | I10: Landscaping | J10: 75.391687 | K10: 0.3 | M10: Landscaping | N10: 117.80242 | O10: 0.3
A11: Abs Landscaping | B11: 42.3527 | C11: 0.15 | E11: Abs Landscaping | F11: 74.549887 | G11: 0.15 | I11: Abs Landscaping | J11: 99.077178 | K11: 0.15 | M11: Abs Landscaping | N11: 218.99193 | O11: 0.15
B12: =SUM(B7:B11) -> 500.00042 | F12: =SUM(F7:F11) -> 800.0005 | J12: =SUM(J7:J11) -> 1000.0008 | N12: =SUM(N7:N11) -> 2000
A13: Storage Volume | B13: 12.059 | F13: 19.257 | J13: 24.042 | N13: 48.018
G15: 0.05 | H15: 0.08 | I15: 0.1 | J15: 0.2
B16: Transport | C16: Capital | D16: Install | E16: Groundwork | F16: Labour (hours) | G16: =B13 -> 12.059 | H16: =F13 -> 19.257 | I16: =J13 -> 24.042 | J16: =N13 -> 48.018
A17: Traplow | B17: 0 | C17: 50 | F17: 6 | G17: =SUM($C17:$D17)*G$16+$B17 -> 602.95 | H17: =SUM($C17:$D17)*H$16+$B17 -> 962.85 | I17: =SUM($C17:$D17)*I$16+$B17 -> 1202.1 | J17: =SUM($C17:$D17)*J$16+$B17 -> 2400.9
A18: Roof* | B18: 500 | C18: 160 | F18: 24 | G18: =SUM($C18:$D18)*G$16+$B18 -> 2429.44 | H18: =SUM($C18:$D18)*H$16+$B18 -> 3581.12 | I18: =SUM($C18:$D18)*I$16+$B18 -> 4346.72 | J18: =SUM($C18:$D18)*J$16+$B18 -> 8182.88
A19: Concrete | B19: 500 | C19: 800 | F19: 12 | G19: =SUM($C19:$D19)*G$16+$B19 -> 10147.2 | H19: =SUM($C19:$D19)*H$16+$B19 -> 15905.6 | I19: =SUM($C19:$D19)*I$16+$B19 -> 19733.6 | J19: =SUM($C19:$D19)*J$16+$B19 -> 38914.4
A20: HDPE** | B20: 500 | C20: 300 | F20: 12 | G20: =SUM($C20:$D20)*G$16+$B20 -> 4117.7 | H20: =SUM($C20:$D20)*H$16+$B20 -> 6277.1 | I20: =SUM($C20:$D20)*I$16+$B20 -> 7712.6 | J20: =SUM($C20:$D20)*J$16+$B20 -> 14905.4
A21: Arched*** | B21: 500 | C21: 400 | F21: 24 | G21: =SUM($C21:$D21)*G$16+$B21 -> 5323.6 | H21: =SUM($C21:$D21)*H$16+$B21 -> 8202.8 | I21: =SUM($C21:$D21)*I$16+$B21 -> 10116.8 | J21: =SUM($C21:$D21)*J$16+$B21 -> 19707.2
A22: Modular | B22: 500 | C22: 600 | F22: 24 | G22: =SUM($C22:$D22)*G$16+$B22 -> 7735.4 | H22: =SUM($C22:$D22)*H$16+$B22 -> 12054.2 | I22: =SUM($C22:$D22)*I$16+$B22 -> 14925.2 | J22: =SUM($C22:$D22)*J$16+$B22 -> 29310.8
A24: *assumed 10 cm max depth and $2 per sq. ft. 10m2 needed per m3 of storage, no transport cost estimated in TM03 but there must be some materials for roof storage to be transported
A25: ** based on estimate for 1500 gal tank (5.6 m3)
A26: ***40% stone porosity and 6" of stone above and below chambers
A28: Restrictions
A29: Traplow | B29: Max of 0.3 flooding, Lnds+AbsLnds > Storage volume
A30: Roof | B30: Roof > Storage volume, extra cost for structural analysis
A31: Concrete | B31: 650mm cover
A32: HDPE | B32: 750mm cover
A33: Arched | B33: 500mm cover
A34: Modular | B34: 600mm cover

Sheet Storages Background Info
A1: HIDE | C1: 1 | D1: 2 | E1: 3 | F1: 4 | G1: 5 | H1: 6 | I1: 7 | J1: 8 | K1: 9 | L1: 10 | M1: 11 | N1: 12 | O1: 13 | P1: 14 | Q1: 15 | R1: 16 | S1: 17 | T1: 18 | U1: 19
C2: Product Desc | D2: Length (ft) | E2: Length (m) | F2: Width (ft) | G2: Width (m) | H2: Height (ft) | I2: Height (m) | J2: Diameter (ft) | K2: Module Volume (m3) | L2: Footprint (ft2) | M2: Footprint (m2) | N2: Final Footprint (m2) | O2: Final Height (m) | P2: Perimeter (m) | Q2: Extra Excavation Depth (m) | R2: Transport (num of truckloads) | S2: Labour (hours) | T2: Cost (/m3) | U2: Cost Basis Date | W2: INDEX
A3: Concrete | B3: Storm Capture | C3: 7x15x2 (ft) | D3: 15 | F3: 7 | H3: 2 | K3: 5.95 | L3: =D3*F3 -> 105 | M3: =E3*G3 -> 0 | N3: =IF(M3=0,L3*0.09290304,M3) -> 9.7548192 | O3: =IF(I3=0,H3*0.3048,I3) -> 0.6096 | P3: =IF(IF((2*(E3+G3))=0, 2*(D3+F3)/3.2, (2*(E3+G3)))=0, J3*PI(), IF((2*(E3+G3))=0, 2*(D3+F3)/3.2, (2*(E3+G3)))) -> 13.75 | Q3: 0.6 | R3: 2 | S3: 12 | T3: 1100 | U3: 45852 | V3: from KEVIN COWDEN | W3: 1
A4: Concrete | B4: Storm Capture | C4: 7x15x4 (ft) | D4: 15 | F4: 7 | H4: 4 | K4: 11.89 | L4: =D4*F4 -> 105 | M4: =E4*G4 -> 0 | N4: =IF(M4=0,L4*0.09290304,M4) -> 9.7548192 | O4: =IF(I4=0,H4*0.3048,I4) -> 1.2192 | P4: =IF(IF((2*(E4+G4))=0, 2*(D4+F4)/3.2, (2*(E4+G4)))=0, J4*PI(), IF((2*(E4+G4))=0, 2*(D4+F4)/3.2, (2*(E4+G4)))) -> 13.75 | Q4: 0.6 | R4: 2 | S4: 12 | T4: 1100 | U4: 45852 | V4: from KEVIN COWDEN | W4: 2
A5: Concrete | B5: Storm Capture | C5: 7x15x6 (ft) | D5: 15 | F5: 7 | H5: 6 | K5: 17.84 | L5: =D5*F5 -> 105 | M5: =E5*G5 -> 0 | N5: =IF(M5=0,L5*0.09290304,M5) -> 9.7548192 | O5: =IF(I5=0,H5*0.3048,I5) -> 1.8288 | P5: =IF(IF((2*(E5+G5))=0, 2*(D5+F5)/3.2, (2*(E5+G5)))=0, J5*PI(), IF((2*(E5+G5))=0, 2*(D5+F5)/3.2, (2*(E5+G5)))) -> 13.75 | Q5: 0.6 | R5: 2 | S5: 12 | T5: 1100 | U5: 45852 | V5: from KEVIN COWDEN | W5: 3
A6: Concrete | B6: Storm Capture | C6: 7x15x8 (ft) | D6: 15 | F6: 7 | H6: 8 | K6: 23.79 | L6: =D6*F6 -> 105 | M6: =E6*G6 -> 0 | N6: =IF(M6=0,L6*0.09290304,M6) -> 9.7548192 | O6: =IF(I6=0,H6*0.3048,I6) -> 2.4384 | P6: =IF(IF((2*(E6+G6))=0, 2*(D6+F6)/3.2, (2*(E6+G6)))=0, J6*PI(), IF((2*(E6+G6))=0, 2*(D6+F6)/3.2, (2*(E6+G6)))) -> 13.75 | Q6: 0.6 | R6: 2 | S6: 12 | T6: 1100 | U6: 45852 | V6: from KEVIN COWDEN | W6: 4
A7: Concrete | B7: Storm Trap | C7: 1200x900 (mm) | E7: 1.2 | G7: 0.9 | I7: 2 | K7: 2.05 | L7: =D7*F7 -> 0 | M7: =E7*G7 -> 1.08 | N7: =IF(M7=0,L7*0.09290304,M7) -> 1.08 | O7: =IF(I7=0,H7*0.3048,I7) -> 2 | P7: =IF(IF((2*(E7+G7))=0, 2*(D7+F7)/3.2, (2*(E7+G7)))=0, J7*PI(), IF((2*(E7+G7))=0, 2*(D7+F7)/3.2, (2*(E7+G7)))) -> 4.2 | Q7: 1 | R7: 2 | S7: 12 | T7: 1100 | U7: 45852 | V7: from LOVEDEEP RAMANA | W7: 5
A8: Concrete | B8: Storm Trap | C8: 1800x1200 (mm) | E8: 1.8 | G8: 1.2 | I8: 2 | K8: 4.15 | L8: =D8*F8 -> 0 | M8: =E8*G8 -> 2.16 | N8: =IF(M8=0,L8*0.09290304,M8) -> 2.16 | O8: =IF(I8=0,H8*0.3048,I8) -> 2 | P8: =IF(IF((2*(E8+G8))=0, 2*(D8+F8)/3.2, (2*(E8+G8)))=0, J8*PI(), IF((2*(E8+G8))=0, 2*(D8+F8)/3.2, (2*(E8+G8)))) -> 6 | Q8: 1 | R8: 2 | S8: 12 | T8: 1200 | U8: 45852 | V8: from LOVEDEEP RAMANA | W8: 6
A9: Concrete | B9: Storm Trap | C9: 2400x1200 (mm) | E9: 2.4 | G9: 1.2 | I9: 2 | K9: 5.6 | L9: =D9*F9 -> 0 | M9: =E9*G9 -> 2.88 | N9: =IF(M9=0,L9*0.09290304,M9) -> 2.88 | O9: =IF(I9=0,H9*0.3048,I9) -> 2 | P9: =IF(IF((2*(E9+G9))=0, 2*(D9+F9)/3.2, (2*(E9+G9)))=0, J9*PI(), IF((2*(E9+G9))=0, 2*(D9+F9)/3.2, (2*(E9+G9)))) -> 7.2 | Q9: 1 | R9: 2 | S9: 12 | T9: 1300 | U9: 45852 | V9: from LOVEDEEP RAMANA | W9: 7
A10: Concrete | B10: Storm Trap | C10: 2400x1800 (mm) | E10: 2.4 | G10: 1.8 | I10: 2 | K10: 8.35 | L10: =D10*F10 -> 0 | M10: =E10*G10 -> 4.32 | N10: =IF(M10=0,L10*0.09290304,M10) -> 4.32 | O10: =IF(I10=0,H10*0.3048,I10) -> 2 | P10: =IF(IF((2*(E10+G10))=0, 2*(D10+F10)/3.2, (2*(E10+G10)))=0, J10*PI(), IF((2*(E10+G10))=0, 2*(D10+F10)/3.2, (2*(E10+G10)))) -> 8.4 | Q10: 1 | R10: 2 | S10: 12 | T10: 1400 | U10: 45852 | V10: from LOVEDEEP RAMANA | W10: 8
A11: Concrete | B11: Storm Trap | C11: 2440x2400 (mm) | E11: 2.44 | G11: 2.44 | I11: 2.44 | K11: 14.3 | L11: =D11*F11 -> 0 | M11: =E11*G11 -> 5.9536 | N11: =IF(M11=0,L11*0.09290304,M11) -> 5.9536 | O11: =IF(I11=0,H11*0.3048,I11) -> 2.44 | P11: =IF(IF((2*(E11+G11))=0, 2*(D11+F11)/3.2, (2*(E11+G11)))=0, J11*PI(), IF((2*(E11+G11))=0, 2*(D11+F11)/3.2, (2*(E11+G11)))) -> 9.76 | Q11: 1 | R11: 2 | S11: 12 | T11: 1500 | U11: 45852 | V11: from LOVEDEEP RAMANA | W11: 9
A12: Concrete | B12: Urban Pond | C12: 8x16x3 (ft) | D12: 16 | F12: 8 | H12: 3 | K12: 10.08 | L12: =D12*F12 -> 128 | M12: =E12*G12 -> 0 | N12: =IF(M12=0,L12*0.09290304,M12) -> 11.891589 | O12: =IF(I12=0,H12*0.3048,I12) -> 0.9144 | P12: =IF(IF((2*(E12+G12))=0, 2*(D12+F12)/3.2, (2*(E12+G12)))=0, J12*PI(), IF((2*(E12+G12))=0, 2*(D12+F12)/3.2, (2*(E12+G12)))) -> 15 | Q12: =0.15+0.3+0.3 -> 0.75 | R12: 2 | S12: 12 | T12: 800 | U12: 45784 | V12: based on TM03 | W12: 10
A13: Concrete | B13: Urban Pond | C13: 8x16x4 (ft) | D13: 16 | F13: 8 | H13: 4 | K13: 13.45 | L13: =D13*F13 -> 128 | M13: =E13*G13 -> 0 | N13: =IF(M13=0,L13*0.09290304,M13) -> 11.891589 | O13: =IF(I13=0,H13*0.3048,I13) -> 1.2192 | P13: =IF(IF((2*(E13+G13))=0, 2*(D13+F13)/3.2, (2*(E13+G13)))=0, J13*PI(), IF((2*(E13+G13))=0, 2*(D13+F13)/3.2, (2*(E13+G13)))) -> 15 | Q13: =0.15+0.3+0.3 -> 0.75 | R13: 2 | S13: 12 | T13: 800 | U13: 45784 | V13: based on TM03 | W13: 11
A14: Concrete | B14: Urban Pond | C14: 8x16x5 (ft) | D14: 16 | F14: 8 | H14: 5 | K14: 16.85 | L14: =D14*F14 -> 128 | M14: =E14*G14 -> 0 | N14: =IF(M14=0,L14*0.09290304,M14) -> 11.891589 | O14: =IF(I14=0,H14*0.3048,I14) -> 1.524 | P14: =IF(IF((2*(E14+G14))=0, 2*(D14+F14)/3.2, (2*(E14+G14)))=0, J14*PI(), IF((2*(E14+G14))=0, 2*(D14+F14)/3.2, (2*(E14+G14)))) -> 15 | Q14: =0.15+0.3+0.3 -> 0.75 | R14: 2 | S14: 12 | T14: 800 | U14: 45784 | V14: based on TM03 | W14: 12
A15: Concrete | B15: Urban Pond | C15: 8x16x6 (ft) | D15: 16 | F15: 8 | H15: 6 | K15: 20.22 | L15: =D15*F15 -> 128 | M15: =E15*G15 -> 0 | N15: =IF(M15=0,L15*0.09290304,M15) -> 11.891589 | O15: =IF(I15=0,H15*0.3048,I15) -> 1.8288 | P15: =IF(IF((2*(E15+G15))=0, 2*(D15+F15)/3.2, (2*(E15+G15)))=0, J15*PI(), IF((2*(E15+G15))=0, 2*(D15+F15)/3.2, (2*(E15+G15)))) -> 15 | Q15: =0.15+0.3+0.3 -> 0.75 | R15: 2 | S15: 12 | T15: 800 | U15: 45784 | V15: based on TM03 | W15: 13
A16: HDPE | B16: Carat S Belowground | C16: Carat S Belowground | D16: 7.8333 | F16: 7.1667 | H16: 6.8917 | K16: 6.435 | L16: =D16*F16 -> 56.138911 | M16: =E16*G16 -> 0 | N16: =IF(M16=0,L16*0.09290304,M16) -> 5.2154755 | O16: =IF(I16=0,H16*0.3048,I16) -> 2.1005902 | P16: =IF(IF((2*(E16+G16))=0, 2*(D16+F16)/3.2, (2*(E16+G16)))=0, J16*PI(), IF((2*(E16+G16))=0, 2*(D16+F16)/3.2, (2*(E16+G16)))) -> 9.375 | Q16: 0.75 | R16: 1 | S16: 12 | T16: 300 | U16: 45784 | V16: based on TM03 | W16: 1
A17: Arched | B17: Xerexes | C17: M-6 Chamber | E17: 0.751 | G17: 0.854 | I17: 0.445 | K17: 0.322 | L17: =D17*F17 -> 0 | M17: =E17*G17 -> 0.641354 | N17: =IF(M17=0,L17*0.09290304,M17) -> 0.641354 | O17: =IF(I17=0,H17*0.3048,I17) -> 0.445 | P17: =IF(IF((2*(E17+G17))=0, 2*(D17+F17)/3.2, (2*(E17+G17)))=0, J17*PI(), IF((2*(E17+G17))=0, 2*(D17+F17)/3.2, (2*(E17+G17)))) -> 3.21 | Q17: 0.304 | R17: 1 | S17: 24 | T17: 400 | U17: 45784 | V17: based on TM03 | W17: 1
A18: Arched | B18: Xerexes | C18: C-10 Chamber | E18: 0.751 | G18: 1.008 | I18: 0.635 | K18: 0.494 | L18: =D18*F18 -> 0 | M18: =E18*G18 -> 0.757008 | N18: =IF(M18=0,L18*0.09290304,M18) -> 0.757008 | O18: =IF(I18=0,H18*0.3048,I18) -> 0.635 | P18: =IF(IF((2*(E18+G18))=0, 2*(D18+F18)/3.2, (2*(E18+G18)))=0, J18*PI(), IF((2*(E18+G18))=0, 2*(D18+F18)/3.2, (2*(E18+G18)))) -> 3.518 | Q18: 0.304 | R18: 1 | S18: 24 | T18: 400 | U18: 45784 | V18: based on TM03 | W18: 2
A19: Arched | B19: Xerexes | C19: S-29B Chamber | E19: 0.847 | G19: 1.569 | I19: 0.947 | K19: 1.191 | L19: =D19*F19 -> 0 | M19: =E19*G19 -> 1.328943 | N19: =IF(M19=0,L19*0.09290304,M19) -> 1.328943 | O19: =IF(I19=0,H19*0.3048,I19) -> 0.947 | P19: =IF(IF((2*(E19+G19))=0, 2*(D19+F19)/3.2, (2*(E19+G19)))=0, J19*PI(), IF((2*(E19+G19))=0, 2*(D19+F19)/3.2, (2*(E19+G19)))) -> 4.832 | Q19: 0.304 | R19: 1 | S19: 24 | T19: 400 | U19: 45784 | V19: based on TM03 | W19: 3
A20: Arched | B20: Cultec | C20: Recharger 150XLHD | E20: 3.35 | G20: 0.838 | I20: 0.47 | K20: 1.42 | L20: =D20*F20 -> 0 | M20: =E20*G20 -> 2.8073 | N20: =IF(M20=0,L20*0.09290304,M20) -> 2.8073 | O20: =IF(I20=0,H20*0.3048,I20) -> 0.47 | P20: =IF(IF((2*(E20+G20))=0, 2*(D20+F20)/3.2, (2*(E20+G20)))=0, J20*PI(), IF((2*(E20+G20))=0, 2*(D20+F20)/3.2, (2*(E20+G20)))) -> 8.376 | Q20: 0.304 | R20: 1 | S20: 24 | T20: 400 | U20: 45784 | V20: based on TM03 | W20: 4
A21: Arched | B21: StormTech | C21: MC-3500 | E21: 2.286 | G21: 1.956 | I21: 1.143 | K21: 4.96 | L21: =D21*F21 -> 0 | M21: =E21*G21 -> 4.471416 | N21: =IF(M21=0,L21*0.09290304,M21) -> 4.471416 | O21: =IF(I21=0,H21*0.3048,I21) -> 1.143 | P21: =IF(IF((2*(E21+G21))=0, 2*(D21+F21)/3.2, (2*(E21+G21)))=0, J21*PI(), IF((2*(E21+G21))=0, 2*(D21+F21)/3.2, (2*(E21+G21)))) -> 8.484 | Q21: 0.534 | R21: 1 | S21: 24 | T21: 450 | U21: 45852 | V21: from SAEED RAHMAN | W21: 5
A22: Arched | B22: StormTech | C22: SC-800 | E22: 2.301 | G22: 1.295 | I22: 0.838 | K22: 2.22 | L22: =D22*F22 -> 0 | M22: =E22*G22 -> 2.979795 | N22: =IF(M22=0,L22*0.09290304,M22) -> 2.979795 | O22: =IF(I22=0,H22*0.3048,I22) -> 0.838 | P22: =IF(IF((2*(E22+G22))=0, 2*(D22+F22)/3.2, (2*(E22+G22)))=0, J22*PI(), IF((2*(E22+G22))=0, 2*(D22+F22)/3.2, (2*(E22+G22)))) -> 7.192 | Q22: 0.304 | R22: 1 | S22: 24 | T22: 560 | U22: 45852 | V22: from SAEED RAHMAN | W22: 6
A23: Arched | B23: StormTech | C23: MC-4500 | E23: 2.12 | G23: 2.54 | I23: 1.524 | K23: 7.56 | L23: =D23*F23 -> 0 | M23: =E23*G23 -> 5.3848 | N23: =IF(M23=0,L23*0.09290304,M23) -> 5.3848 | O23: =IF(I23=0,H23*0.3048,I23) -> 1.524 | P23: =IF(IF((2*(E23+G23))=0, 2*(D23+F23)/3.2, (2*(E23+G23)))=0, J23*PI(), IF((2*(E23+G23))=0, 2*(D23+F23)/3.2, (2*(E23+G23)))) -> 9.32 | Q23: 0.381 | R23: 1 | S23: 24 | T23: 470 | U23: 45852 | V23: from SAEED RAHMAN | W23: 7
A24: Modular | B24: BARR EcoBloc | C24: EcoBloc | D24: 2.5833 | F24: 2.5833 | H24: 2.5833 | K24: 0.205 | L24: =D24*F24 -> 6.6734389 | M24: =E24*G24 -> 0 | N24: =IF(M24=0,L24*0.09290304,M24) -> 0.61998276 | O24: =IF(I24=0,H24*0.3048,I24) -> 0.78738984 | P24: =IF(IF((2*(E24+G24))=0, 2*(D24+F24)/3.2, (2*(E24+G24)))=0, J24*PI(), IF((2*(E24+G24))=0, 2*(D24+F24)/3.2, (2*(E24+G24)))) -> 3.229125 | Q24: 0.6 | R24: 1 | S24: 24 | T24: 600 | U24: 45784 | V24: based on TM03 | W24: 1
A25: Modular | B25: Xerxes | C25: AquaMod | E25: 1 | G25: 1 | I25: 0.5 | K25: 0.48 | L25: =D25*F25 -> 0 | M25: =E25*G25 -> 1 | N25: =IF(M25=0,L25*0.09290304,M25) -> 1 | O25: =IF(I25=0,H25*0.3048,I25) -> 0.5 | P25: =IF(IF((2*(E25+G25))=0, 2*(D25+F25)/3.2, (2*(E25+G25)))=0, J25*PI(), IF((2*(E25+G25))=0, 2*(D25+F25)/3.2, (2*(E25+G25)))) -> 4 | Q25: 0.682 | R25: 1 | S25: 24 | T25: 600 | U25: 45784 | V25: based on TM03 | W25: 2
A26: Modular | B26: ACO | C26: StormBrixx | E26: 1.2 | G26: 0.6 | I26: 0.914 | K26: =E26*G26*I26*0.97 -> 0.6383376 | L26: =D26*F26 -> 0 | M26: =E26*G26 -> 0.72 | N26: =IF(M26=0,L26*0.09290304,M26) -> 0.72 | O26: =IF(I26=0,H26*0.3048,I26) -> 0.914 | P26: =IF(IF((2*(E26+G26))=0, 2*(D26+F26)/3.2, (2*(E26+G26)))=0, J26*PI(), IF((2*(E26+G26))=0, 2*(D26+F26)/3.2, (2*(E26+G26)))) -> 3.6 | Q26: =0.61+0.152 -> 0.762 | R26: 1 | S26: 24 | T26: 285 | U26: 45784 | V26: from catalogue | W26: 3
A27: Modular | B27: StormTank | C27: ST-18 | D27: 3 | F27: 1.5 | I27: 0.457 | K27: 0.26 | L27: 0.42 | M27: =E27*G27 -> 0 | N27: =IF(M27=0,L27*0.09290304,M27) -> 0.039019277 | O27: =IF(I27=0,H27*0.3048,I27) -> 0.457 | P27: =IF(IF((2*(E27+G27))=0, 2*(D27+F27)/3.2, (2*(E27+G27)))=0, J27*PI(), IF((2*(E27+G27))=0, 2*(D27+F27)/3.2, (2*(E27+G27)))) -> 2.8125 | Q27: =0.152+0.305 -> 0.457 | R27: 1 | S27: 24 | T27: 430 | U27: 45852 | V27: from AMY WOODS | W27: 4
A28: Modular | B28: StormTank | C28: ST-24 | D28: 3 | F28: 1.5 | I28: 0.61 | K28: 0.32 | L28: 0.42 | M28: =E28*G28 -> 0 | N28: =IF(M28=0,L28*0.09290304,M28) -> 0.039019277 | O28: =IF(I28=0,H28*0.3048,I28) -> 0.61 | P28: =IF(IF((2*(E28+G28))=0, 2*(D28+F28)/3.2, (2*(E28+G28)))=0, J28*PI(), IF((2*(E28+G28))=0, 2*(D28+F28)/3.2, (2*(E28+G28)))) -> 2.8125 | Q28: =0.152+0.305 -> 0.457 | R28: 1 | S28: 24 | T28: 450 | U28: 45852 | V28: from AMY WOODS | W28: 5
A29: Modular | B29: StormTank | C29: ST-30 | D29: 3 | F29: 1.5 | I29: 0.762 | K29: 0.38 | L29: 0.42 | M29: =E29*G29 -> 0 | N29: =IF(M29=0,L29*0.09290304,M29) -> 0.039019277 | O29: =IF(I29=0,H29*0.3048,I29) -> 0.762 | P29: =IF(IF((2*(E29+G29))=0, 2*(D29+F29)/3.2, (2*(E29+G29)))=0, J29*PI(), IF((2*(E29+G29))=0, 2*(D29+F29)/3.2, (2*(E29+G29)))) -> 2.8125 | Q29: =0.152+0.305 -> 0.457 | R29: 1 | S29: 24 | T29: 470 | U29: 45852 | V29: from AMY WOODS | W29: 6

Sheet Flow Control Background Info
A1: HIDE | D1: Price | E1: Index
A2: Orifice | B2: ACO | C2: Q-Plate | D2: 450 | E2: 1
A3: Pump | B3: BARR | C3: SBA Submersible Booster Pump | E3: 1
A4: Pump | B4: FLYGT | C4: N-Technology Pump | E4: 2
A5: Vortex | B5: Hydro | C5: Hydrobrake | D5: 7500 | E5: 1
A6: Vortex | B6: ACO | C6: Q-Brake | D6: 2500 | E6: 2
A7: Roof Weir | B7: WATTS | C7: Roof Drain with Flow Control | D7: 40 | E7: 1

Sheet Constants
A1: HIDE
A2: Type of Storage | B2: Excavation Cost | C2: Transport Cost | D2: Engineering Cost | E2: Labour Cost
A3: Concrete | B3: 25 | C3: 500 | D3: 0.1 | E3: 100
A4: HDPE | B4: /m3 | C4: /truckload | D4: % of total | E4: /man hour
A5: Arched
A6: Modular
A7: Traplow
A8: Roof
A10: Type of Flow Control
A11: Vortex
A12: Orifice
A13: Pump
A14: Roof Weir
A16: Optional Costs | D16: Utility Conflicts and Relocations
A17: Shoring | B17: =100*3.2 -> 320 | C17: =400*3.2 -> 1280 | D17: 0
B18: average estimate per meter, depth <2.4 m | C18: average estimate /m, depth >2.4 m | D18: 1
A19: Close Proximity to Buildings | B19: 1000 | D19: 2
A20: Utility Conflicts and Relocations | B20: 1000 | D20: 3
A21: Mobilization/General Conditions | D21: 4
A22: Non-Permeable Liner | B22: 5 | C22: Average estimate /m2

Sheet Assumptions
B2: Assumptions
B4: This table lists the assumptions made behind the values in the Background Info tabs and the Constants sheet. Dates should correlate with the cost basis date in the Background Information tab.
B6: Date | C6: Storage System | D6: Category | E6: Assumption
B7: 46179 | C7: All | D7: Excavation | E7: Assumed all excavation from sites is waste excavation from site with appropriate equipment. $25/m3 is a rough estimation and will vary based on city site and contractor. This includes a general estimate for dumping fees.
B8: 46179 | C8: All | D8: Transportation | E8: Assumed $500 per truckload. Priced as short distance hauling, all suppliers have local distribution, so the price does not reflect long distance shipping costs.
B9: 46179 | C9: All | D9: Engineering Cost | E9: Assumed 10% contingency on top of overall cost and acquisition. This value will vary depending on firm and contractor, as well as complexity of the site, delays, and suppliers.
B10: 46179 | C10: All | D10: Excavation | E10: Assumed minimum cover when calculating excavation depth, according to installation manuals.
B11: 46179 | C11: All | D11: Excavation | E11: Assuming high end of $150/day for shoring rentals, assuming equipment for installation already on site and personnel are trained.
B12: 46179 | C12: All | D12: Excavation | E12: For disposal fees, assume 1 m3 of soil weighs approximately 1.5 tonnes. Assume $10/tonne, or $15/m3. Rates calculated based on City of Calgary soil disposal fees.
B13: 46179 | C13: All | D13: Optional Costs | E13: For optional costs of proximity to buildings/neighbouring property lines, utility conflicts and relocations, and mobilizations or general conditions, placeholder amounts of $1000 have been included. These costs are highly variable but are listed to encourage consideration of these costs prior to further design. For the non-permeable liner, a high-midrange cost of $5/m2 has been assumed, and multiplied by the average footprint from all of the alternative options.

Sheet Version Information
B2: Ownership/Version Table
B3: If updates are made to pricing, assumptions, or any product notes, the ownership table will be updated to represent the most recent changes. Notes will be added related to what costs were updated, ensuring that the date correlates with the estimate. When this table is updated, the cost basis date in the Information tab would also be updated.
B4: Name, Organization | C4: Date | D4: Update Notes
