Workbook

Sheet Introduction
B2: Detention Storage Cost Estimate
B3: Version 1.0
B4: This Detention Storage Cost Estimate tool has been developed for the City of Calgary to support discussions around incentives or fees related to installation of stormwater retention systems in new developments. This tool will provide general costs for a variety of localized suppliers and types of storages, but does not give site specific information. Costs may vary widely depending on development requirements. This tool was created to assist the city with general information about potential costs but does not replace a professional stamp or represent final project costs.
D10: Indicates boxes that require user input.
C12: Spreadsheet Description
C13: Tab Title | D13: Descpription | G13: Reference Manual Chapter
C14: Cost Estimate | D14: Users may input a value for stormwater storage volume required. Users are given the choice to select storage type and flow control infrastructure.

Sheet Cost Estimate
B2: Maintenance Cost Estimate Version 1.0 - September 2, 2026
B5: The intention of the Maintenance Cost Estimate Checklist is to provide a general approximation of average annual inspection, operation and maintenance costs to the owner of a stormwater detention system. Select the storage type and the costs that the user is interested in to generate a list of costs and associated notes. For each category (Inspection, Operation, Maintenance), select which costs are to be included in the final estimate in the 'Check If Needed' column. The sheet will auto-populate with an estimate and relevant notes. If the cost is known by the user, select the checkbox in the 'Known Cost' column, as this will zero out the automatic cost. The final estimated total cost will be shown at the bottom of the sheet, with a pre-populated set of notes. Ensure to zero out any cells highlighted in grey in order to not duplicate costs.
B11: PLEASE NOTE: This tool is meant to be used as a guideline and is a very general estimate of cost, with relevant explanations about what inspection, operations, and maintenance might entail. Actual costs are heavily dependant on various factors such as site conditions, sedimentation build up, groundwater, market pricing, and access constraints. To find information about maintenance frequency, the user should consult the Operations and Maintenance Manual or contact relevant suppliers.
B14: The cost basis date represents the day that the pricing was updated, and is pulled from the information tab. The totals for pricing are represented in dollars for that year (ex. costs updated in 2026 would be in 2026 dollars). The optional escalation factor is a multiplier for the auto costs and can be inputted by the user if there is a known rate of change or inflation from the pricing represented. A value of 1 is required for the escalation factor for regular estimated costing. Annual inspection and maintenance frequency is also selected by the user and is reflected in the automatic costs. A selection of inspection/maintenance frequency of 0.5 correlates to it being conducted twice in a year.
C16: Cost Basis Date: | D16: =VLOOKUP($E$21,Information!A4:P9,16,FALSE) -> 2026.04.07 | F16: Optional: Escalation Factor | G16: 1 | I16: Inspection Frequency: (Every X Years) | J16: 1 | L16: Maintenance Frequency: (Every X Years) | M16: 1 | O16: Standard Maintainance Frequency: | P16: =VLOOKUP(E21,Information!$A$2:$Q$9,17,FALSE) -> Once Every 3 Years
I18: *If entering manual cost for inspectioon or maintainance per service instead of per year, enter inspection/maintainance frequency as 1
C21: Storage Type: | E21: HDPE
C23: Inspection (Cost Annually) | E23: Check If Needed | F23: Known Cost | G23: Auto Cost (Cost Annually) | H23: Manual Cost | I23: Notes
D24: Personnel | E24: TRUE | F24: FALSE | G24: =IFERROR(IF(F24=TRUE, 0, IF(E24=TRUE, VLOOKUP($E$21,Information!$A$4:$O$9,2,FALSE),""))*$G$16, 0)/J16 -> 100 | H24: 0 | I24: =IF(E24=TRUE,VLOOKUP($E$21,Information!$A$4:$O$9,4,FALSE),"") -> Regular annual inspection reccomended for possible deformation and sedimentation build up. Approx 30 minutes per inspection.
D25: Equipment | E25: TRUE | F25: FALSE | G25: =IFERROR(IF(F25=TRUE, 0, IF(E25=TRUE, VLOOKUP($E$21,Information!$A$4:$O$9,3,FALSE),""))*$G$16, 0)/J16 -> 150 | H25: 0 | I25: =IF(E25=TRUE,VLOOKUP($E$21,Information!$A$4:$O$9,5,FALSE),"") -> Harness (confined space), specialized, CCTV Option
C26: Maintenance (Cost Annually)
D27: Personnel | E27: TRUE | F27: FALSE | G27: =IFERROR(IF(F27=TRUE, 0, IF(E27=TRUE, VLOOKUP($E$21,Information!$A$4:$O$9,10,FALSE),""))*$G$16, 0)/M16 -> 600 | H27: 0 | I27: =IF(E27=TRUE,VLOOKUP($E$21,Information!$A$4:$O$9,13,FALSE),"") -> Vacuum truck operators
D28: Equipment | E28: TRUE | F28: FALSE | G28: =IFERROR(IF(F28=TRUE, 0, IF(E28=TRUE, VLOOKUP($E$21,Information!$A$4:$O$9,11,FALSE),""))*$G$16, 0)/M16 -> 700 | H28: 0 | I28: =IF(E28=TRUE,VLOOKUP($E$21,Information!$A$4:$O$9,14,FALSE),"") -> Vacuum truck, approximating 2 hours, additional cost for load removed
D29: Replacement | F29: FALSE | G29: Only Included as a Manual Cost | H29: 0 | I29: =VLOOKUP($E$21,Information!$A$4:$O$9,15,FALSE) -> 100+ year design lifespan
D31: Total Cost: | G31: =SUM(G24:H29) -> 1550 | H31: /per year

Sheet Information
A1: 1 | B1: 2 | C1: 3 | D1: 4 | E1: 5 | F1: 6 | G1: 7 | H1: 8 | I1: 9 | J1: 10 | K1: 11 | L1: 12 | M1: 13 | N1: 14 | O1: 15 | P1: 16 | Q1: 17
B2: Inspection Cost (per inspection) | D2: Inspection Notes | F2: Operation Cost | H2: Operation Notes | J2: Maintenance Cost (per service) | M2: Maintenance Notes | P2: Cost Basis Date | Q2: Maintainance Frequency
A3: Type of Storage | B3: Personnel | C3: Equipment | D3: Personnel | E3: Equipment | F3: Personnel | G3: Equipment | H3: Personnel | I3: Equipment | J3: Personnel | K3: Equipment | L3: Replacement | M3: Personnel | N3: Equipment | O3: Replacement | Q3: General, recommended
A4: Concrete | B4: 100 | C4: 150 | D4: First year, two visual inspections recommended, annual inspections to follow. Approx. 30 mins per inspection. | E4: Harness (confined space), sludge judge equipment, CCTV Option | F4: 0 | G4: 0 | H4: No personnel needed for operation | I4: No equipment needed for operation | J4: 600 | K4: 700 | L4: 0 | M4: Vacuum truck operators | N4: Vacuum truck, approximating 2 hours, additional cost for load removed | O4: 100+ year design lifespan | P4: 2026.04.06 | Q4: Once Every 3 to 5 Years
A5: HDPE | B5: 100 | C5: 150 | D5: Regular annual inspection reccomended for possible deformation and sedimentation build up. Approx 30 minutes per inspection. | E5: Harness (confined space), specialized, CCTV Option | F5: 0 | G5: 0 | H5: No personnel needed for operation | I5: No equipment needed for operation | J5: 600 | K5: 700 | L5: 0 | M5: Vacuum truck operators | N5: Vacuum truck, approximating 2 hours, additional cost for load removed | O5: 100+ year design lifespan | P5: 2026.04.07 | Q5: Once Every 3 Years
A6: Arched | B6: 100 | C6: 150 | D6: Reccomended one or two annual inspections, done by third party inspection firm. Approx. 1-2 hours per inspection. | E6: Through inspection ports, CCTV or sludge stick | F6: 0 | G6: 0 | H6: No personnel needed for operation | I6: No equipment needed for operation | J6: 1200 | K6: 1400 | L6: 0 | M6: Vacuum truck operators | N6: Vacuum truck, every three to five years approximately, full day of work, $350 per hour for personnel and equipment, additional cost for load removed | O6: 50-75 year design lifespan | P6: 2026.04.10 | Q6: Once Every 3-5 Years
A7: Modular | B7: 100 | C7: 100 | D7: First inspection after major rainfall in first year, reccomended annual inspections for sediment build up. Done by third party inspection firm or owner. Approx. 1-2 hours per inspection. | E7: Visual inspection from ground level, CCTV Option | F7: 0 | G7: 0 | H7: No personnel needed for operation | I7: No equipment needed for operation | J7: 1000 | K7: 1100 | L7: 0 | M7: Vacuum truck operators | N7: Vacuum truck, approximately 4-8 hours to clean depending on site, $350 per hour for personnel and equipment, additional cost for load removed | O7: 50 year design lifespan | P7: 2026.03.20 | Q7: Once Every 2-4 Years
A8: Traplow | B8: 0 | C8: 0 | D8: System Owner can inspect for debris/clogs | E8: None | F8: 0 | G8: 0 | H8: No personnel needed for operation | I8: No equipment needed for operation | J8: 0 | K8: 50 | L8: 0 | M8: System Owner can clear debris/clogs | N8: Shovel, Broom, Gloves | O8: Lifespan of the soil and material | P8: N.A. | Q8: N.A.
A9: Roof | B9: 300 | C9: 300 | D9: Inspection needed for possible clogging, assumed roof is accessible | E9: Harness (working at heights), specialized | F9: 0 | G9: 0 | H9: No personnel needed for operation | I9: No equipment needed for operation | J9: 600 | K9: 500 | L9: 0 | M9: Trained personnel, working at heights | N9: Harness, Cleaning equipment for roofs, gutters, drainage systems, approximately 6-8 hours to clean depending on site | O9: Lifespan of the building | P9: N.A. | Q9: Once Every 2 Years
A11: Tables for annual frequency
A12: Inspection Frequency | B12: Maintenance Frequency
A13: 0.5 | B13: 0.5
A14: 1 | B14: 1
A15: 2 | B15: 2
A16: 3 | B16: 3
A17: 4 | B17: 4
A18: 5 | B18: 5

Sheet Assumptions
B2: Assumptions
B4: This table lists the assumptions made behind the values in the information tab. Dates should correlate with the cost basis date in the information tab.
B6: Date | C6: Storage System | D6: Category | E6: Assumption
B7: 46147 | C7: Modular | D7: Inspection/Maintenance | E7: Prices quoted for an average site size of 0.23 Ha, considering a range of home types from multifamily to 4 plexes. Average stormwater volume estimated at 100 m3.
B8: 46147 | C8: Modular | D8: Inspection | E8: Inspection rates vary depending on site sedimentation and storm events. Recommended inspection after first major storm event and then annually. If no major storm event, inspection annually.
B9: 46147 | C9: Modular | D9: Inspection | E9: Frequency of inspection is dependant on results from first year and on system design (ex. pretreatment) and inspection is required if there is more than 6" of sediment in tank. Assumed annual inspection for general/average site.
B10: 46147 | C10: Modular | D10: Maintenance | E10: Assume tank takes between 4-8 hours to clean, dependant on tank size/design. Assume hydrovac truck cost $350/hour for equipment and personnel. Assume personnel is $50/hr/person. Additional cost for waste removal and disposal, assume $4000 for a single load of disposal.
B11: 46147 | C11: Modular | D11: Inspection | E11: Supplier said inspection can be done by owner/facility manager/on site maintenance personnel with no special equipment, assume no cost for inspection UNLESS CCTV inspection is required or preferred.
B12: 46147 | C12: Modular | D12: Maintenance | E12: Assume lifespan of tank is based on regular maintenance, proper installation, and no major damage.
B13: 46147 | C13: Concrete | D13: Inspection/Maintenance | E13: Prices quoted for an average site size of 0.23 Ha, considering a range of home types from multifamily to 4 plexes. Average stormwater volume estimated at 100 m3.
B14: 46147 | C14: Concrete | D14: Inspection | E14: Inspections are recommended twice annually in the first year, followed by annual inspections to determine level of sedimentation and maintenance frequency.
B15: 46147 | C15: Concrete | D15: Inspection | E15: Inspection can be done outside or inside the tank. Outside the unit through the manhole is done with sludge judge equipment and there may or may not be water in the tank. Assumed to take a maximum od 30 minutes at a rate of $500/hr for personnel and equipment. Visual inspection from inside the tank can be conducted if the tank is dry, and inspection time varies widely depending on system footprint. Visual inspection from inside the tank requires confined space procedures and multiple personnel.
B16: 46147 | C16: Concrete | D16: Maintenance | E16: Maintenance is required when the storage volume of the tank is decreased by 15%. Varies heavily depending on what rainfall event the tank is designed for, upstream filtration, and site/catchment parameters. Assume maintenance every 3-5 years for average site but varies.
B17: 46147 | C17: Concrete | D17: Maintenance | E17: Assume lifespan of tank is based on regular maintenance, proper installation, and no major damage. Structural maintenance and repairs can further extend lifespan and replacement is typically only required if unrepairable structural damage comes from an issue such as improper loading.
B18: 46147 | C18: Concrete | D18: Maintenance | E18: Assume tank takes between 2-6 hours to clean, dependant on tank size/design. Assume hydrovac truck cost $350/hour for equipment and personnel. Assume personnel is $50/hr/person. Additional cost for waste removal and disposal, assume $4000 for a single load of disposal.
... B31: 46147 | C31: Roof | D31: Maintenance | E31: Assume roof access is available for maintenance, and that equipment like a scissor lift is not required. Assume $50/hour/person with equipment including harnesses and a way to transport debris off of the roof.

Sheet Version Information
B2: Ownership/Version Table
B3: If updates are made to pricing, assumptions, or any product notes, the ownership table will be updated to represent the most recent changes. Notes will be added related to what costs were updated, ensuring that the date correlates with the estimate. When this table is updated, the cost basis date in the Information tab would also be updated.
B4: Name, Organization | C4: Date | D4: Update Notes
B5: Kayla Reinholz, MPE | C5: 46153 | D5: Updated cost estimates from suppliers, all storage types.

Sheet Planning
A1: Supply | C1: Installation | G1: Variability | N1: Questions
A2: Material | C2: Excavation (Only Additional Depth) | G2: Additional Considerations | N2: ="- What product depth should be assumed?" -> - What product depth should be assumed?
A3: Shipping | C3: Labour
C4: Equipment (special)
C5: Backfill
C6: Liners
C7: Additional Materials
A9: Material | G9: Excavation
A10: Cost Variablity: | G10: Cost Variablity:
B11: Price per module | H11: Depth
B12: It may be cheaper to purchase multiple modules. | H12: Costs more to dig deeper
B15: Product Size | H15: Soil
B16: Larger prodcuts are more likely to cost more. | H16: Are there large rocks that will be an issue?
H19: Equipment
A20: Shipping | H20: What equipment is required for the excavation.
A21: Cost Variablity:
B22: Distance
B23: Greater distance is likely to cost more. (Gas, drivers cost) | G23: Labour
G24: Cost Variablity:
B26: Weight of Product | H26: Number of People Required
B27: Heavier products are going to cost more to ship. | H27: How many people are needed for installation?
B30: Product Configuration | H30: Skilled Labour
B31: If products are stackable, more products can fit on one truckload. | H31: Does the labourer need to be specially trained?
H34: Installation Time
H35: How long does it take to install?
G39: Equipment
G40: Cost Variablity:
H41: Special Equipment
H42: Is any special equipment required for installation?
G46: Backfill
G47: Cost Variablity:
H48: Material
H49: What type of backfill is required?
H52: Depth
H53: The deeper the ecavation, the more backfill is required.
G57: Liners
G58: Cost Variablity:
H59: Required?
H60: Is a liner required for the product?
H63: Type
...

Sheet Site Planning
A1: 0.05 | E1: 0.08 | I1: 0.1 | M1: 0.2
A3: Release Rate | B3: 50 | E3: Release Rate | F3: 50 | I3: Release Rate | J3: 50 | M3: Release Rate | N3: 50
A4: C | B4: 0.8 | E4: C | F4: 0.8 | I4: C | J4: 0.8 | M4: C | N4: 0.8
B6: Area | C6: C | D6: =SUMPRODUCT(B7:B11,C7:C11)/B12 -> 0.79999941 | F6: Area | G6: C | H6: =SUMPRODUCT(F7:F11,G7:G11)/F12 -> 0.79999945 | J6: Area | K6: C | L6: =SUMPRODUCT(J7:J11,K7:K11)/J12 -> 0.79999994 | N6: Area | O6: C | P6: =SUMPRODUCT(N7:N11,O7:O11)/N12 -> 0.80000001
A7: Roof | B7: 261.99179 | C7: 1 | E7: Roof | F7: 455.42013 | G7: 1 | I7: Roof | J7: 591.73623 | K7: 1 | M7: Roof | N7: 1225.2218 | O7: 1
A8: Pavement | B8: 104.40313 | C8: 0.9 | E8: Pavement | F8: 127.4209 | G8: 0.9 | I8: Pavement | J8: 134.71853 | K8: 0.9 | M8: Pavement | N8: 218.99193 | O8: 0.9
A9: Gravel | B9: 51.583427 | C9: 0.5 | E9: Gravel | F9: 79.678302 | G9: 0.5 | I9: Gravel | J9: 99.077178 | K9: 0.5 | M9: Gravel | N9: 218.99193 | O9: 0.5
A10: Landscaping | B10: 39.669369 | C10: 0.3 | E10: Landscaping | F10: 62.93128 | G10: 0.3 | I10: Landscaping | J10: 75.391687 | K10: 0.3 | M10: Landscaping | N10: 117.80242 | O10: 0.3
A11: Abs Landscaping | B11: 42.3527 | C11: 0.15 | E11: Abs Landscaping | F11: 74.549887 | G11: 0.15 | I11: Abs Landscaping | J11: 99.077178 | K11: 0.15 | M11: Abs Landscaping | N11: 218.99193 | O11: 0.15
B12: =SUM(B7:B11) -> 500.00042 | F12: =SUM(F7:F11) -> 800.0005 | J12: =SUM(J7:J11) -> 1000.0008 | N12: =SUM(N7:N11) -> 2000
A13: Storage Volume | B13: 12.059 | F13: 19.257 | J13: 24.042 | N13: 48.018
G15: 0.05 | H15: 0.08 | I15: 0.1 | J15: 0.2
B16: Transport | C16: Capital | D16: Install | E16: Groundwork | F16: Labour (hours) | G16: =B13 -> 12.059 | H16: =F13 -> 19.257 | I16: =J13 -> 24.042 | J16: =N13 -> 48.018
A17: Traplow | B17: 0 | C17: 50 | F17: 6 | G17: =SUM($C17:$D17)*G$16+$B17 -> 602.95 | H17: =SUM($C17:$D17)*H$16+$B17 -> 962.85 | I17: =SUM($C17:$D17)*I$16+$B17 -> 1202.1 | J17: =SUM($C17:$D17)*J$16+$B17 -> 2400.9
A18: Roof* | B18: 500 | C18: 160 | F18: 24 | G18: =SUM($C18:$D18)*G$16+$B18 -> 2429.44 | H18: =SUM($C18:$D18)*H$16+$B18 -> 3581.12 | I18: =SUM($C18:$D18)*I$16+$B18 -> 4346.72 | J18: =SUM($C18:$D18)*J$16+$B18 -> 8182.88
A19: Concrete | B19: 500 | C19: 800 | F19: 12 | G19: =SUM($C19:$D19)*G$16+$B19 -> 10147.2 | H19: =SUM($C19:$D19)*H$16+$B19 -> 15905.6 | I19: =SUM($C19:$D19)*I$16+$B19 -> 19733.6 | J19: =SUM($C19:$D19)*J$16+$B19 -> 38914.4
A20: HDPE** | B20: 500 | C20: 300 | F20: 12 | G20: =SUM($C20:$D20)*G$16+$B20 -> 4117.7 | H20: =SUM($C20:$D20)*H$16+$B20 -> 6277.1 | I20: =SUM($C20:$D20)*I$16+$B20 -> 7712.6 | J20: =SUM($C20:$D20)*J$16+$B20 -> 14905.4
A21: Arched*** | B21: 500 | C21: 400 | F21: 24 | G21: =SUM($C21:$D21)*G$16+$B21 -> 5323.6 | H21: =SUM($C21:$D21)*H$16+$B21 -> 8202.8 | I21: =SUM($C21:$D21)*I$16+$B21 -> 10116.8 | J21: =SUM($C21:$D21)*J$16+$B21 -> 19707.2
A22: Modular | B22: 500 | C22: 600 | F22: 24 | G22: =SUM($C22:$D22)*G$16+$B22 -> 7735.4 | H22: =SUM($C22:$D22)*H$16+$B22 -> 12054.2 | I22: =SUM($C22:$D22)*I$16+$B22 -> 14925.2 | J22: =SUM($C22:$D22)*J$16+$B22 -> 29310.8
A24: *assumed 10 cm max depth and $2 per sq. ft. 10m2 needed per m3 of storage, no transport cost estimated in TM03 but there must be some materials for roof storage to be transported
A25: ** based on estimate for 1500 gal tank (5.6 m3)
A26: ***40% stone porosity and 6" of stone above and below chambers
A28: Restrictions
A29: Traplow | B29: Max of 0.3 flooding, Lnds+AbsLnds > Storage volume
A30: Roof | B30: Roof > Storage volume, extra cost for structural analysis
A31: Concrete | B31: 650mm cover
A32: HDPE | B32: 750mm cover
A33: Arched | B33: 500mm cover
A34: Modular | B34: 600mm cover
